BEGIN:VCALENDAR
VERSION:2.0
PRODID:-//PZDU DOLENJSKE IN BELE KRAJINE - ECPv6.0.6.2//NONSGML v1.0//EN
CALSCALE:GREGORIAN
METHOD:PUBLISH
X-WR-CALNAME:PZDU DOLENJSKE IN BELE KRAJINE
X-ORIGINAL-URL:https://pzdudolenjskeinbelekrajine.si
X-WR-CALDESC:Events for PZDU DOLENJSKE IN BELE KRAJINE
REFRESH-INTERVAL;VALUE=DURATION:PT1H
X-Robots-Tag:noindex
X-PUBLISHED-TTL:PT1H
BEGIN:VTIMEZONE
TZID:Europe/Paris
BEGIN:DAYLIGHT
TZOFFSETFROM:+0100
TZOFFSETTO:+0200
TZNAME:CEST
DTSTART:20200329T010000
END:DAYLIGHT
BEGIN:STANDARD
TZOFFSETFROM:+0200
TZOFFSETTO:+0100
TZNAME:CET
DTSTART:20201025T010000
END:STANDARD
END:VTIMEZONE
BEGIN:VEVENT
DTSTART;TZID=Europe/Paris:20200326T080000
DTEND;TZID=Europe/Paris:20200326T140000
DTSTAMP:20260423T100655
CREATED:20200301T053657Z
LAST-MODIFIED:20200311T083819Z
UID:753-1585209600-1585231200@pzdudolenjskeinbelekrajine.si
SUMMARY:45. ŠIU - ŠAH - PRELOŽENO
DESCRIPTION:ŠAH ekipno – moški  – Šentjernej\, Trubarjeva cesta 2a \nEKIPE    MOŠKI \n  \n\n\n\nZap. št.\nDU\n\n\n1.\nČRNOMELJ\n\n\n2.\nDRAGA\n\n\n3.\nKOČEVJE\n\n\n4.\nMALI SLATNIK\n\n\n5.\nDOL. TOPLICE\n\n\n6.\nMIRNA\n\n\n7.\nNOVO MESTO\n\n\n8.\nPREČNA\n\n\n9.\nSEMIČ\n\n\n10.\nSTRAŽA\n\n\n11.\nŠENTJERNEJ\n\n\n12.\nTREBNJE\n\n\n13.\nVELIKI GABER\n\n\n14.\nŽUŽEMBERK\n\n\n\nDelegat: Franci Dragan (GSM 051 322 206; dragan.franci@gmail.com) \nPRAVILA ŠIU \nŠ A H \n1. Igra se po pravilih FIDE z dodatkom za hitropotezni šah (ne upošteva se točka 6.6.(a) Pravil šaha FIDE) in ekipnem pravilniku ŠZS. \n2. Ekipo sestavljajo štirje igralci in ena rezerva. \n3. Ekipo vodi kapetan. Osnovna postava ekipe se odda ob prijavi na tekmovanje\, sprememba ekipe za posamezna kola pa se pred začetkom kola zapiše v obrazec dvoboja. Če sprememba postave ni vpisana v formular do začetka dvoboja\, se šteje\, da ekipa dvoboj igra z osnovno postavo. Vrstni red igralcev v osnovni postavi se določa po presoji kapetana. \n4. Igralni čas je 10 minut za vsakega igralca za partijo (skupaj max. 20 minut na partijo). \n5. Kadar na tekmovanju sodeluje do 12 ekip\, se igra 9 krogov po Bergerjevem sistemu\, če pa na prvenstvu sodeluje 13 ali več ekip\, se igra 9 krogov po Švicarskem sistemu. \n6. Kriteriji za določanje uvrstitve so (po vrstnem redu upoštevanja):\nA) Bergerjev sistem:\n– osnovne (šahovske) točke\n– meč točke\n– medsebojni izid-i (po pokalnem sistemu)\,\n– Sonneborn-Bergerjev sistem po osnovnih točkah\,\nB) Švicarski sistem:\n– osnovne (šahovske) točke\,\n– meč točke\,\n– Buchholz koeficient po osnovnih točkah\,\n– medsebojni izid-i (po pokalnem sistemu).\nČe katero od prvih treh mest ni odločeno po nobenem od teh   kriterijev\, se igra »zlati dvoboj« po pokalnem sistemu (barve figur se izžrebajo\, 6 minut za igralca z belimi in 5 minut za igralca s črnimi figurami\, ekipi s črnimi figurami na prvi plošči zadoščajo štirje remiji). \n7. Sodnik mora pred začetkom tekmovanja seznaniti tekmovalce z najpomembnejšimi določbami pravil. Odločitve glavnega sodnika glede pravil igre so dokončne! Pritožbe na ostale sodnikove odločitve rešuje turnirski odbor. Turnirski odbor se izvoli pred začetkom tekmovanja in ga sestavljajo trije (3) člani in dva (2) namestnika. Odločitve turnirskega odbora so dokončne. \n8. Organizator tekmovanja priskrbi kompletne šahovske garniture in elektronske šahovske ure. \n9. Organizator zagotovi računalniško vodenje tekmovanja. \n10. Rezultate posameznih partij in celotnega dvoboja kapetana obeh ekip vpišeta na obrazec in ga podpišeta\, nato ga kapetan zmagovalne ekipe preda sodniku (v primeru remija to stori kapetan ekipe z belimi figurami na prvi deski). \n11. Po končanem tekmovanju sodnik razglasi dosežene rezultate in odda turnirsko tabelo organizatorju tekmovanja. \n 
URL:https://pzdudolenjskeinbelekrajine.si/event-single-post-name/45-siu-sah/
LOCATION:Pri Jerneju\, Trubarjeva cesta 2a\, Šentjernej\, 8310\, Slovenija
END:VEVENT
END:VCALENDAR