BEGIN:VCALENDAR
VERSION:2.0
PRODID:-//PZDU DOLENJSKE IN BELE KRAJINE - ECPv6.0.6.2//NONSGML v1.0//EN
CALSCALE:GREGORIAN
METHOD:PUBLISH
X-ORIGINAL-URL:https://pzdudolenjskeinbelekrajine.si
X-WR-CALDESC:Events for PZDU DOLENJSKE IN BELE KRAJINE
REFRESH-INTERVAL;VALUE=DURATION:PT1H
X-Robots-Tag:noindex
X-PUBLISHED-TTL:PT1H
BEGIN:VTIMEZONE
TZID:UTC
BEGIN:STANDARD
TZOFFSETFROM:+0000
TZOFFSETTO:+0000
TZNAME:UTC
DTSTART:20200101T000000
END:STANDARD
END:VTIMEZONE
BEGIN:VEVENT
DTSTART;TZID=UTC:20200409T065800
DTEND;TZID=UTC:20200409T065800
DTSTAMP:20260423T081443
CREATED:20200226T091953Z
LAST-MODIFIED:20200427T062504Z
UID:543-1586415480-1586415480@pzdudolenjskeinbelekrajine.si
SUMMARY:LIKOVNA KOLONIJA IZOLA - ODPADLA
DESCRIPTION:Prijavite se na likovno kolonijo 2020 v Izoli\nV letu 2020 bo 22. likovna kolonija potekala\nod nedelje\, 26. 4. do srede\, 29. 4. 2020\nv DELFIN HOTELU ZDUS\, Tomažičeva 10\, 6310 Izola\,\npod mentorstvom akademskega slikarja mag. Uroša Potočnika. \nZainteresirane udeležence prosimo\, da izpolnjeno prijavnico pošljejo na ZDUS\, Kebetova 9\, 1000 Ljubljana ali posredujejo po e-pošti na dijana.lukic@zdus-zveza.si  do vključno 31. marca 2020.\nPRIJAVNICA
URL:https://pzdudolenjskeinbelekrajine.si/event-single-post-name/likovna-kolonija-izola/
END:VEVENT
END:VCALENDAR