BEGIN:VCALENDAR
VERSION:2.0
PRODID:-//PZDU DOLENJSKE IN BELE KRAJINE - ECPv6.0.6.2//NONSGML v1.0//EN
CALSCALE:GREGORIAN
METHOD:PUBLISH
X-ORIGINAL-URL:https://pzdudolenjskeinbelekrajine.si
X-WR-CALDESC:Events for PZDU DOLENJSKE IN BELE KRAJINE
REFRESH-INTERVAL;VALUE=DURATION:PT1H
X-Robots-Tag:noindex
X-PUBLISHED-TTL:PT1H
BEGIN:VTIMEZONE
TZID:UTC
BEGIN:STANDARD
TZOFFSETFROM:+0000
TZOFFSETTO:+0000
TZNAME:UTC
DTSTART:20200101T000000
END:STANDARD
END:VTIMEZONE
BEGIN:VEVENT
DTSTART;TZID=UTC:20200417T180000
DTEND;TZID=UTC:20200417T200000
DTSTAMP:20260423T081426
CREATED:20200226T091207Z
LAST-MODIFIED:20200319T111130Z
UID:536-1587146400-1587153600@pzdudolenjskeinbelekrajine.si
SUMMARY:SREČANJE PEVSKIH ZBOROV - PRELOŽENO
DESCRIPTION:Zaradi epidemije kronovirusa preloženo za nedoločen čas. \nŠportna dvorana Sodražica \nRAZPIS
URL:https://pzdudolenjskeinbelekrajine.si/event-single-post-name/srecanje-pevskih-zborov/
END:VEVENT
END:VCALENDAR