BEGIN:VCALENDAR
VERSION:2.0
PRODID:-//PZDU DOLENJSKE IN BELE KRAJINE - ECPv6.0.6.2//NONSGML v1.0//EN
CALSCALE:GREGORIAN
METHOD:PUBLISH
X-WR-CALNAME:PZDU DOLENJSKE IN BELE KRAJINE
X-ORIGINAL-URL:https://pzdudolenjskeinbelekrajine.si
X-WR-CALDESC:Events for PZDU DOLENJSKE IN BELE KRAJINE
REFRESH-INTERVAL;VALUE=DURATION:PT1H
X-Robots-Tag:noindex
X-PUBLISHED-TTL:PT1H
BEGIN:VTIMEZONE
TZID:Europe/Paris
BEGIN:DAYLIGHT
TZOFFSETFROM:+0100
TZOFFSETTO:+0200
TZNAME:CEST
DTSTART:20200329T010000
END:DAYLIGHT
BEGIN:STANDARD
TZOFFSETFROM:+0200
TZOFFSETTO:+0100
TZNAME:CET
DTSTART:20201025T010000
END:STANDARD
END:VTIMEZONE
BEGIN:VEVENT
DTSTART;TZID=Europe/Paris:20200616T080000
DTEND;TZID=Europe/Paris:20200616T130000
DTSTAMP:20260423T042648
CREATED:20200519T091356Z
LAST-MODIFIED:20200529T092813Z
UID:1457-1592294400-1592312400@pzdudolenjskeinbelekrajine.si
SUMMARY:POHOD SPOZNAJMO DOLENJSKO - DU ČRNOMELJ - ODPOVEDAN
DESCRIPTION:-torek 16. 6. 2020 – DU Črnomelj ob 8 uri – pohod odpovedan
URL:https://pzdudolenjskeinbelekrajine.si/event-single-post-name/pohod-spoznajmo-dolenjsko-du-crnomelj/
END:VEVENT
END:VCALENDAR