BEGIN:VCALENDAR
VERSION:2.0
PRODID:-//PZDU DOLENJSKE IN BELE KRAJINE - ECPv6.0.6.2//NONSGML v1.0//EN
CALSCALE:GREGORIAN
METHOD:PUBLISH
X-ORIGINAL-URL:https://pzdudolenjskeinbelekrajine.si
X-WR-CALDESC:Events for PZDU DOLENJSKE IN BELE KRAJINE
REFRESH-INTERVAL;VALUE=DURATION:PT1H
X-Robots-Tag:noindex
X-PUBLISHED-TTL:PT1H
BEGIN:VTIMEZONE
TZID:Europe/Paris
BEGIN:DAYLIGHT
TZOFFSETFROM:+0100
TZOFFSETTO:+0200
TZNAME:CEST
DTSTART:20200329T010000
END:DAYLIGHT
BEGIN:STANDARD
TZOFFSETFROM:+0200
TZOFFSETTO:+0100
TZNAME:CET
DTSTART:20201025T010000
END:STANDARD
END:VTIMEZONE
BEGIN:VEVENT
DTSTART;TZID=Europe/Paris:20200801T000000
DTEND;TZID=Europe/Paris:20201022T000000
DTSTAMP:20260425T010908
CREATED:20200801T043149Z
LAST-MODIFIED:20201024T072917Z
UID:1726-1596240000-1603324800@pzdudolenjskeinbelekrajine.si
SUMMARY:RAZPIS – DELOVANJE ČLANSTVA V ČASU KORONE
DESCRIPTION:KOMISIJA ZA KULTURO IN TEHNIČNO KULTURO \nRazpis – vaše delovanje v času korone \nGlej tudi nov razpis na \nhttps://pzdudolenjskeinbelekrajine.si/event/razpis-za-vaso-kulturno-stvaritev-v-letu-koronavirusa-2020/
URL:https://pzdudolenjskeinbelekrajine.si/event-single-post-name/razpis-vase-delovanje-v-casu-korone/
END:VEVENT
BEGIN:VEVENT
DTSTART;VALUE=DATE:20201009
DTEND;VALUE=DATE:20201016
DTSTAMP:20260425T010908
CREATED:20201009T063656Z
LAST-MODIFIED:20201009T063656Z
UID:2191-1602201600-1602806399@pzdudolenjskeinbelekrajine.si
SUMMARY:15.  OKTOBER SVETOVNI DAN HOJE
DESCRIPTION:15.  oktobra obeležujemo svetovni dan hoje. \nHoja je najbolj naravna in zato tudi zdrava oblika gibanja. Strokovna dognanja kažejo\, da lahko že 30 minut hoje na dan bistveno prispeva k izboljšanju našega počutja in k preprečevanju vse bolj pogostih zdravstvenih težav\, ki nastanejo kot posledica nezadostne telesne dejavnosti. \n\nZato pojdimo na sprehod… vsak dan…
URL:https://pzdudolenjskeinbelekrajine.si/event-single-post-name/15-oktober-svetovni-dan-hoje/
END:VEVENT
BEGIN:VEVENT
DTSTART;VALUE=DATE:20201010
DTEND;VALUE=DATE:20201012
DTSTAMP:20260425T010908
CREATED:20201009T061748Z
LAST-MODIFIED:20201011T073656Z
UID:2187-1602288000-1602460799@pzdudolenjskeinbelekrajine.si
SUMMARY:10. OKTOBER SVETOVNI DAN DUŠEVNEGA ZDRAVJA
DESCRIPTION:  \n(klik) 10. OKTOBER SVETOVNI DAN DUŠEVNEGA ZDRAVJA
URL:https://pzdudolenjskeinbelekrajine.si/event-single-post-name/10-oktober-svetovni-dan-dusevnega-zdravja/
END:VEVENT
END:VCALENDAR