BEGIN:VCALENDAR
VERSION:2.0
PRODID:-//PZDU DOLENJSKE IN BELE KRAJINE - ECPv6.0.6.2//NONSGML v1.0//EN
CALSCALE:GREGORIAN
METHOD:PUBLISH
X-ORIGINAL-URL:https://pzdudolenjskeinbelekrajine.si
X-WR-CALDESC:Events for PZDU DOLENJSKE IN BELE KRAJINE
REFRESH-INTERVAL;VALUE=DURATION:PT1H
X-Robots-Tag:noindex
X-PUBLISHED-TTL:PT1H
BEGIN:VTIMEZONE
TZID:Europe/Paris
BEGIN:DAYLIGHT
TZOFFSETFROM:+0100
TZOFFSETTO:+0200
TZNAME:CEST
DTSTART:20200329T010000
END:DAYLIGHT
BEGIN:STANDARD
TZOFFSETFROM:+0200
TZOFFSETTO:+0100
TZNAME:CET
DTSTART:20201025T010000
END:STANDARD
BEGIN:DAYLIGHT
TZOFFSETFROM:+0100
TZOFFSETTO:+0200
TZNAME:CEST
DTSTART:20210328T010000
END:DAYLIGHT
BEGIN:STANDARD
TZOFFSETFROM:+0200
TZOFFSETTO:+0100
TZNAME:CET
DTSTART:20211031T010000
END:STANDARD
END:VTIMEZONE
BEGIN:VEVENT
DTSTART;VALUE=DATE:20201021
DTEND;VALUE=DATE:20210501
DTSTAMP:20260425T025107
CREATED:20201024T070227Z
LAST-MODIFIED:20210401T062013Z
UID:2275-1603238400-1619827199@pzdudolenjskeinbelekrajine.si
SUMMARY:RAZPIS PZDU ZA VAŠO KULTURNO STVARITEV V »LETU KORONAVIRUSA« 2020/2021
DESCRIPTION:  \n \n(klik) RAZPIS ZA VAŠO KULTURNO STVARITEV V »LETU KORONAVIRUSA« 2020/2021 \n  \nDRUŠTVENE (KORONA) ZGODBE – PZDU DOLENJSKE IN BELE KRAJINE
URL:https://pzdudolenjskeinbelekrajine.si/event-single-post-name/razpis-za-vaso-kulturno-stvaritev-v-letu-koronavirusa-2020/
END:VEVENT
BEGIN:VEVENT
DTSTART;TZID=Europe/Paris:20201023T000000
DTEND;TZID=Europe/Paris:20201204T000000
DTSTAMP:20260425T025107
CREATED:20200923T045930Z
LAST-MODIFIED:20201024T071433Z
UID:1890-1603411200-1607040000@pzdudolenjskeinbelekrajine.si
SUMMARY:NATEČAJ ZDUS ZA IZVIRNO KULTURNO STVARITEV  V »KORONA LETU« 2020
DESCRIPTION:(klik) NATEČAJ ZDUS ZA IZVIRNO KULTURNO STVARITEV  V »KORONA LETU« 2020
URL:https://pzdudolenjskeinbelekrajine.si/event-single-post-name/natecaj-zdus-za-izvirno-kulturno-stvaritev-v-korona-letu-2020/
END:VEVENT
END:VCALENDAR