BEGIN:VCALENDAR
VERSION:2.0
PRODID:-//PZDU DOLENJSKE IN BELE KRAJINE - ECPv6.0.6.2//NONSGML v1.0//EN
CALSCALE:GREGORIAN
METHOD:PUBLISH
X-ORIGINAL-URL:https://pzdudolenjskeinbelekrajine.si
X-WR-CALDESC:Events for PZDU DOLENJSKE IN BELE KRAJINE
REFRESH-INTERVAL;VALUE=DURATION:PT1H
X-Robots-Tag:noindex
X-PUBLISHED-TTL:PT1H
BEGIN:VTIMEZONE
TZID:Europe/Paris
BEGIN:DAYLIGHT
TZOFFSETFROM:+0100
TZOFFSETTO:+0200
TZNAME:CEST
DTSTART:20260329T010000
END:DAYLIGHT
BEGIN:STANDARD
TZOFFSETFROM:+0200
TZOFFSETTO:+0100
TZNAME:CET
DTSTART:20261025T010000
END:STANDARD
END:VTIMEZONE
BEGIN:VEVENT
DTSTART;TZID=Europe/Paris:20260101T000000
DTEND;TZID=Europe/Paris:20260215T000000
DTSTAMP:20260421T135943
CREATED:20260107T062038Z
LAST-MODIFIED:20260204T144642Z
UID:9806-1767225600-1771113600@pzdudolenjskeinbelekrajine.si
SUMMARY:PODALJŠANJE RAZPISA ZA ČLANE KOMISIJE ZA ŠPORT\, REKREACIJO IN GIBALNO KULTURO PZDU DBK
DESCRIPTION:Spoštovani\, \n\n\n\nSporočam vam\, da se je zaključil razpis za člane Komisije za šport in gibalno kulturo v PZDU DBK. V roku so se prijavili: \n\n\n\n\nLeon Bezlaj\, Semič\n\n\n\nRafko Križman\, Novo mesto\n\n\n\nBrane Krošelj\,\n\n\n\nFranc Hudoklin\, Šentjernej\n\n\n\n\nKer ni dovolj kandidatov (potrebujemo še dva)\, podaljšujemo rok prijave do 15.2.2026 in vas prosimo\, da jo pošljete na email naslov: \n\n\n\npzdu-dolenjske@t-2.net. Pred sejo UO PZDU DBK\, bi bo 20. 2. 2026\, bo vloge obravnavala Komisija za kadrovska vprašanja\, UO pa bo sklepal o sprejemu članov. \n\n\n\nLep pozdrav\, \n\n\n\nCirila Surina Zajc \n\n\n\nPredsednica Pokrajinske zveze DU Dolenjske in Bele krajine
URL:https://pzdudolenjskeinbelekrajine.si/event-single-post-name/razpis-za-clane-komisije-za-sport-rekreacijo-in-gibalno-kulturo-pzdu-dbk/
END:VEVENT
BEGIN:VEVENT
DTSTART;TZID=Europe/Paris:20260119T000000
DTEND;TZID=Europe/Paris:20261221T000000
DTSTAMP:20260421T135943
CREATED:20260122T115952Z
LAST-MODIFIED:20260122T120144Z
UID:9833-1768780800-1797811200@pzdudolenjskeinbelekrajine.si
SUMMARY:REZPORED POHODOV SPOZNAJMO DOLENJSKO IN BELO KRAJINO 2026
DESCRIPTION:REZPORED POHODOV SPOZNAJMO DOLENJSKO IN BELO KRAJINO 2026
URL:https://pzdudolenjskeinbelekrajine.si/event-single-post-name/rezpored-pohodov-spoznajmo-dolenjsko-in-belo-krajino-2026/
END:VEVENT
END:VCALENDAR