BEGIN:VCALENDAR
VERSION:2.0
PRODID:-//PZDU DOLENJSKE IN BELE KRAJINE - ECPv6.0.6.2//NONSGML v1.0//EN
CALSCALE:GREGORIAN
METHOD:PUBLISH
X-ORIGINAL-URL:https://pzdudolenjskeinbelekrajine.si
X-WR-CALDESC:Events for PZDU DOLENJSKE IN BELE KRAJINE
REFRESH-INTERVAL;VALUE=DURATION:PT1H
X-Robots-Tag:noindex
X-PUBLISHED-TTL:PT1H
BEGIN:VTIMEZONE
TZID:Europe/Paris
BEGIN:DAYLIGHT
TZOFFSETFROM:+0100
TZOFFSETTO:+0200
TZNAME:CEST
DTSTART:20200329T010000
END:DAYLIGHT
BEGIN:STANDARD
TZOFFSETFROM:+0200
TZOFFSETTO:+0100
TZNAME:CET
DTSTART:20201025T010000
END:STANDARD
TZID:UTC
BEGIN:STANDARD
TZOFFSETFROM:+0000
TZOFFSETTO:+0000
TZNAME:UTC
DTSTART:20200101T000000
END:STANDARD
END:VTIMEZONE
BEGIN:VEVENT
DTSTART;TZID=Europe/Paris:20200611T073000
DTEND;TZID=Europe/Paris:20200611T150000
DTSTAMP:20260423T023709
CREATED:20200604T192201Z
LAST-MODIFIED:20200617T174955Z
UID:1531-1591860600-1591887600@pzdudolenjskeinbelekrajine.si
SUMMARY:UPOKOJENSKA LIGA V PETANKI 2020 - TURNIR V TREBNJEM
DESCRIPTION:Prispevek o turnirju \nVABIMO VAS NA MEDDRUŠTVENI  TURNIR V PETANKI \n  \nTurnir bo v četrtek\, 11.06.2020 ob 7.30 uri\, pri železniški postaji Trebnje (stara lokacija Komunale). \nUrnik turnirja: \n\n7.30   –  8.00   – prijava ekip\n8.00   –  8.30   – zajtrk\n8.30   – 11.15  – 3 kola tekmovanja\n11.15 – 12.00  – malica\n12.00 – 14.00  – 2 kola tekmovanja\n14.00 – zaključek\n\nTurnir se bo odvijal v okviru »PETANKARSKE LIGE UPOKOJENCEV 2020«. \nKotizacija za tekmovalca znaša 10 EUR. \nV kotizacijo je všteta organizacija turnirja\, zajtrk\, malica\, voda in liter vina na ekipo. \nVsak udeleženec mora pred pričetkom tekmovanja izpolniti »VPRAŠALNIK ZA PREVERJANJE ZDRAVSTVENEGA STANJA UDELEŽENCA«\, kar je pogoj za udeležbo na tekmovanju in je sestavni del zapisnika. Lahko pa si vprašalnik natisnete in že izpolnjenega prinesete s seboj. \nEkipe prijavite najpozneje do torka 9.6.2020 na seniortrebnje@gmail.com ali  miro.salehar@siol.net ali po tel. 041 296 876 (Miro Šalehar). \nVodja športne sekcije DU Trebnje \nMiro Šalehar
URL:https://pzdudolenjskeinbelekrajine.si/event-single-post-name/meddrustveni-turnir-v-petanki/
END:VEVENT
BEGIN:VEVENT
DTSTART;TZID=UTC:20200613T000000
DTEND;TZID=UTC:20200613T000000
DTSTAMP:20260423T023709
CREATED:20200226T091742Z
LAST-MODIFIED:20200507T071606Z
UID:540-1592006400-1592006400@pzdudolenjskeinbelekrajine.si
SUMMARY:SREČANJE UPOKOJENCEV NAŠE POKRAJINE ODPOVEDANO
DESCRIPTION:Vse prireditve v Trebnjem v sklopu Trebanjskega koša so ODPOVEDANE! Tako tudi naše srečanje v soboto 13. junija. \nhttps://www.lokalno.si/2020/05/06/236823/zgodba/Teden_cvicka_odpade_Tudi_Trebanjskega_kosa_ne_bo__In_prav_tako_ne_srecanja_upokojencev/
URL:https://pzdudolenjskeinbelekrajine.si/event-single-post-name/srecanje-upokojencev-nase-pokrajine/
LOCATION:TREBNJE\, TREBNJE
END:VEVENT
BEGIN:VEVENT
DTSTART;TZID=Europe/Paris:20200616T080000
DTEND;TZID=Europe/Paris:20200616T130000
DTSTAMP:20260423T023709
CREATED:20200519T091356Z
LAST-MODIFIED:20200529T092813Z
UID:1457-1592294400-1592312400@pzdudolenjskeinbelekrajine.si
SUMMARY:POHOD SPOZNAJMO DOLENJSKO - DU ČRNOMELJ - ODPOVEDAN
DESCRIPTION:-torek 16. 6. 2020 – DU Črnomelj ob 8 uri – pohod odpovedan
URL:https://pzdudolenjskeinbelekrajine.si/event-single-post-name/pohod-spoznajmo-dolenjsko-du-crnomelj/
END:VEVENT
BEGIN:VEVENT
DTSTART;TZID=Europe/Paris:20200619T000000
DTEND;TZID=Europe/Paris:20200930T000000
DTSTAMP:20260423T023709
CREATED:20200619T070529Z
LAST-MODIFIED:20200831T080725Z
UID:1572-1592524800-1601424000@pzdudolenjskeinbelekrajine.si
SUMMARY:POROČEVALEC PZDU ŠT. 1/2020
DESCRIPTION:(klik)\nPoročevalec št. 1/2020
URL:https://pzdudolenjskeinbelekrajine.si/event-single-post-name/izsel-je-obvescevalec-st-1-2020/
END:VEVENT
BEGIN:VEVENT
DTSTART;TZID=Europe/Paris:20200621T130000
DTEND;TZID=Europe/Paris:20200621T150000
DTSTAMP:20260423T023709
CREATED:20200618T085952Z
LAST-MODIFIED:20200621T185427Z
UID:1563-1592744400-1592751600@pzdudolenjskeinbelekrajine.si
SUMMARY:ZBOR ČLANOV DU VELIKA LOKA
DESCRIPTION:Zbor članov društva v gostilni Ravnikar na Čatežu. \n \nfacebook
URL:https://pzdudolenjskeinbelekrajine.si/event-single-post-name/zbor-clanov-du-velika-loka/
END:VEVENT
BEGIN:VEVENT
DTSTART;TZID=Europe/Paris:20200622T000000
DTEND;TZID=Europe/Paris:20200705T000000
DTSTAMP:20260423T023709
CREATED:20200623T180236Z
LAST-MODIFIED:20200630T050224Z
UID:1599-1592784000-1593907200@pzdudolenjskeinbelekrajine.si
SUMMARY:ZPIZ - OBJAVA IZPLAČILA LETNEGA DODATKA
DESCRIPTION:Izplačilo letnega dodatka v letu 2020
URL:https://pzdudolenjskeinbelekrajine.si/event-single-post-name/zpiz-objava-izplacila-letnega-dodatka/
END:VEVENT
BEGIN:VEVENT
DTSTART;TZID=Europe/Paris:20200622T160000
DTEND;TZID=Europe/Paris:20200622T160000
DTSTAMP:20260423T023709
CREATED:20200618T090533Z
LAST-MODIFIED:20200618T090716Z
UID:1565-1592841600-1592841600@pzdudolenjskeinbelekrajine.si
SUMMARY:ZBOR ČLANOV DU METLIKA
DESCRIPTION:Občni zbor Društva upokojencev Metlika bo v \nponedeljek\, 22.06.2020\, ob 16.00 uri v Kulturnem domu Metlika. \nObčni zbor smo zaradi Corona virusa morali preložiti iz marca na novi termin. \nPo Občnem zboru bo predavanje o demenci\, dr. Anamarije Kejžar s Fakultete za socialno delo v Ljubljani. \n  \nPredsednik DU Metlika \nJože Mozetič
URL:https://pzdudolenjskeinbelekrajine.si/event-single-post-name/zbor-clanov-du-metlika/
END:VEVENT
BEGIN:VEVENT
DTSTART;TZID=Europe/Paris:20200623T000000
DTEND;TZID=Europe/Paris:20200830T000000
DTSTAMP:20260423T023709
CREATED:20200624T044806Z
LAST-MODIFIED:20200831T080052Z
UID:1609-1592870400-1598745600@pzdudolenjskeinbelekrajine.si
SUMMARY:BREZPLAČNI JAVNI MEDKRAJEVNI POTNIŠKI PROMET ZA UPOKOJENCE
DESCRIPTION:  \n\n\n\nMinistrstvo za infrastrukturo\n \n  \nklik Brezplačni javni medkrajevni potniški promet za vse upokojence \n\n\n\n\n 
URL:https://pzdudolenjskeinbelekrajine.si/event-single-post-name/brezplacni-javni-medkrajevni-potniski-promet-za-vse-upokojence/
END:VEVENT
BEGIN:VEVENT
DTSTART;TZID=Europe/Paris:20200623T080000
DTEND;TZID=Europe/Paris:20200623T170000
DTSTAMP:20260423T023709
CREATED:20200623T131039Z
LAST-MODIFIED:20200623T131342Z
UID:1594-1592899200-1592931600@pzdudolenjskeinbelekrajine.si
SUMMARY:IZŠEL JE ZDUSplus
DESCRIPTION:ZDUSplus junij
URL:https://pzdudolenjskeinbelekrajine.si/event-single-post-name/izse-je-zdusplus/
END:VEVENT
BEGIN:VEVENT
DTSTART;TZID=Europe/Paris:20200623T100000
DTEND;TZID=Europe/Paris:20200623T120000
DTSTAMP:20260423T023709
CREATED:20200623T070855Z
LAST-MODIFIED:20200623T125250Z
UID:1587-1592906400-1592913600@pzdudolenjskeinbelekrajine.si
SUMMARY:ZBOR ČLANOV DU KOČEVJE
DESCRIPTION:Fotografije \nNa osnovi 32. člena Pravil društva upokojencev Kočevje sklicujem sejo konference delegatov\, ki bo v torek 23. junija 2020 ob 10.00 uri v sejni sobi društva na Reški cesti 5. Seja bo zaradi odpovedi volilnega občnega zbora\, ki je bil planiran za 31. marca 2020\, volilna. \npredsednik društva \nJože Kozina
URL:https://pzdudolenjskeinbelekrajine.si/event-single-post-name/zbor-clanov-du-kocevje/
END:VEVENT
BEGIN:VEVENT
DTSTART;TZID=Europe/Paris:20200626T080000
DTEND;TZID=Europe/Paris:20200626T150000
DTSTAMP:20260423T023709
CREATED:20200617T145324Z
LAST-MODIFIED:20200617T174437Z
UID:1548-1593158400-1593183600@pzdudolenjskeinbelekrajine.si
SUMMARY:UPOKOJENSKA LIGA V PETANKI 2020 - TURNIR NA PEPIHU
DESCRIPTION:DU  Mali Slatnik   Šentjernejska cesta 49 8000 Novo mesto \nORGANIZIRA  PETANKARSKI TURNIR trojk \npri Gostišču »PREPIH« Gornja težka voda\, 8000 Novo mesto\, v sodelovanju z DU  Podgorje-Stopiče \ndne\,  26. 6. 2020 ob 8.00 uri \nNa turnirju lahko sodelujejo začetniki\, kakor tudi  izkušeni tekmovalci. Ekipa je lahko moška\,ženska ali mešana.  Igra je primerna za vse generacije. Pričakujemo najmanj 10 začetniških ekip-brez predhodnega znanja in  najmanj 20 izkušenih ekip. \nZa vodenje tekmovanja bodo poskrbeli člani »Društva petanke Trebnje« Sodniki za pravilnost tekmovanja. \nUrnik turnirja: \n-7.30-  8.00 –       prijava ekip    -8.00-  11.00 –    tri kola tekmovanja \n-11.00-11.45-      malica            -11.45-13.45-       dva kola tekmovanja \n13.45                     zaključek tekmovanja \nRezultati štejejo tudi za UPOKOJENSKO LIGO 2020 \nVsak udeleženec mora pred pričetkom tekmovanja izpolniti »VPRAŠALNIK ZA PREVERJANJA ZDRAVSTVENEGA STANJA UDELEŽENCA«\, kar je pogoj za udeležbo na tekmovanju in je sestavni del zapisnika. Lahko pa si vprašalnik natisnete in že izpolnjenega prinesete s seboj. \nPrijavite se na dragan.franci@gmail.com\, ali po tel. 051-322-206 Franci Dragan\, \,040-433-005 Slavko Staniša \nKotizacije ni. Malico lahko naročite in sami plačate. PRIJAVE EKIP DO TORKA 23. 6. 2020 \n  \nNovo mesto\, 17. 6. 2020                                                   Predsednik DU Mali Slatnik \nFranci Dragan
URL:https://pzdudolenjskeinbelekrajine.si/event-single-post-name/upokojenska-liga-v-petanki-2020-turnir-na-pepihu/
END:VEVENT
BEGIN:VEVENT
DTSTART;TZID=Europe/Paris:20200626T193000
DTEND;TZID=Europe/Paris:20200629T120000
DTSTAMP:20260423T023709
CREATED:20200624T065514Z
LAST-MODIFIED:20200624T065514Z
UID:1617-1593199800-1593432000@pzdudolenjskeinbelekrajine.si
SUMMARY:RAZSTAVA CVETJA ANICE JESIH V ČRNOMLJU
DESCRIPTION:
URL:https://pzdudolenjskeinbelekrajine.si/event-single-post-name/razstava-cvetja-anice-jesih-v-crnomlju/
END:VEVENT
END:VCALENDAR