BEGIN:VCALENDAR
VERSION:2.0
PRODID:-//PZDU DOLENJSKE IN BELE KRAJINE - ECPv6.0.6.2//NONSGML v1.0//EN
CALSCALE:GREGORIAN
METHOD:PUBLISH
X-ORIGINAL-URL:https://pzdudolenjskeinbelekrajine.si
X-WR-CALDESC:Events for PZDU DOLENJSKE IN BELE KRAJINE
REFRESH-INTERVAL;VALUE=DURATION:PT1H
X-Robots-Tag:noindex
X-PUBLISHED-TTL:PT1H
BEGIN:VTIMEZONE
TZID:Europe/Paris
BEGIN:DAYLIGHT
TZOFFSETFROM:+0100
TZOFFSETTO:+0200
TZNAME:CEST
DTSTART:20200329T010000
END:DAYLIGHT
BEGIN:STANDARD
TZOFFSETFROM:+0200
TZOFFSETTO:+0100
TZNAME:CET
DTSTART:20201025T010000
END:STANDARD
END:VTIMEZONE
BEGIN:VEVENT
DTSTART;TZID=Europe/Paris:20200619T000000
DTEND;TZID=Europe/Paris:20200930T000000
DTSTAMP:20260423T004814
CREATED:20200619T070529Z
LAST-MODIFIED:20200831T080725Z
UID:1572-1592524800-1601424000@pzdudolenjskeinbelekrajine.si
SUMMARY:POROČEVALEC PZDU ŠT. 1/2020
DESCRIPTION:(klik)\nPoročevalec št. 1/2020
URL:https://pzdudolenjskeinbelekrajine.si/event-single-post-name/izsel-je-obvescevalec-st-1-2020/
END:VEVENT
BEGIN:VEVENT
DTSTART;TZID=Europe/Paris:20200622T000000
DTEND;TZID=Europe/Paris:20200705T000000
DTSTAMP:20260423T004814
CREATED:20200623T180236Z
LAST-MODIFIED:20200630T050224Z
UID:1599-1592784000-1593907200@pzdudolenjskeinbelekrajine.si
SUMMARY:ZPIZ - OBJAVA IZPLAČILA LETNEGA DODATKA
DESCRIPTION:Izplačilo letnega dodatka v letu 2020
URL:https://pzdudolenjskeinbelekrajine.si/event-single-post-name/zpiz-objava-izplacila-letnega-dodatka/
END:VEVENT
BEGIN:VEVENT
DTSTART;TZID=Europe/Paris:20200623T000000
DTEND;TZID=Europe/Paris:20200830T000000
DTSTAMP:20260423T004814
CREATED:20200624T044806Z
LAST-MODIFIED:20200831T080052Z
UID:1609-1592870400-1598745600@pzdudolenjskeinbelekrajine.si
SUMMARY:BREZPLAČNI JAVNI MEDKRAJEVNI POTNIŠKI PROMET ZA UPOKOJENCE
DESCRIPTION:  \n\n\n\nMinistrstvo za infrastrukturo\n \n  \nklik Brezplačni javni medkrajevni potniški promet za vse upokojence \n\n\n\n\n 
URL:https://pzdudolenjskeinbelekrajine.si/event-single-post-name/brezplacni-javni-medkrajevni-potniski-promet-za-vse-upokojence/
END:VEVENT
BEGIN:VEVENT
DTSTART;TZID=Europe/Paris:20200706T080000
DTEND;TZID=Europe/Paris:20200706T170000
DTSTAMP:20260423T004814
CREATED:20200623T150850Z
LAST-MODIFIED:20200706T151735Z
UID:1667-1594022400-1594054800@pzdudolenjskeinbelekrajine.si
SUMMARY:BREZPLAČEN JAVNI MEDKRAJEVNI POTNIŠKI PROMET ZA UPOKOJENCE
DESCRIPTION:Ministrstvo za infrastrukturo\n \n\n\n\nS 1. JULIJEM 2020 DO BREZPLAČNEGA MEDKRAJEVNEGA POTNIŠKEGA PROMETA \nUpokojenci\, imetniki invalidske evropske kartice\, vojni veterani in starejši od 65 let lahko od 1.7.2020 brezplačno koristite medkrajevni potniški promet. \nDo brezplačne vozovnice niso upravičeni tisti\, ki so v delovnem razmerju\, opravljajo samostojno registrirano dejavnost\, poslovodne osebe gospodarske družbe ali direktorji zasebnih zavodov. \nKako do vozovnice? \nUvodoma našteti upravičenci lahko vlogo za pridobitev na predpisanem obrazcu\, kateremu so priložena tudi navodila\, vložite: \n1.      1. Osebno na enem od 120 prodajnih mest integriranega javnega potniškega prometa ali na prodajnem mestu Slovenskih železnic. Pri osebni oddaji vloge upravičenci predložite osebni dokument\, evropsko kartico ugodnosti za invalide\, oziroma izkaznico vojnega veterana. Izkaznico vam na prodajnem mestu izdajo takoj. Za izdajo kartice na prodajnem mestu poravnate strošek 3 EUR. Nekatera prodajna mesta lahko obračunajo tudi druge stroške\, npr. za obrazec\, če nimate svojega ali pa celo postajno uslugo za izdajo kartice. Predlagamo\, da se o morebitnih dodatnih stroških pozanimate na prodajnem mestu. \n(Primeri obračunavanja dodatnih stroškov za Ljubljano: Avtobusna postaja Ljubljana dodatno zaračuna postajno uslugo za izdajo kartice v znesku 2 EUR in tudi vlogo\, če nimate svojo v znesku 0\,50 EUR; Glavna železniška postaja Ljubljana zaračuna zgolj izdajo kartice v znesku 3 EUR\, če pa se odločite\, da vam kartico pošljejo po pošti\, boste za poštnino odšteli še 3 EUR; LPP ne zaračuna nobenih dodatnih stroškov\, razen stroška za izdajo kartice). \n2.      2. Ministrstvo za infrastrukturo je priporočilo\, da v izogib širjenju koronavirusa Covid-19 in s tem preprečevanju velikega števila kontaktov\, vloge članov zberejo v DU in jih za to v DU določena oseba odnese osebno na prodajno mesto\, pri čemer pa je potrebno priložiti fotokopije dokumentov (osebni dokument\, evropsko kartico ugodnosti za invalide\, oziroma izkaznico vojnega veterana). V tem primeru bi bila izdaja kartice in plačilo stroška izdaje vezana na poštno storitev s plačilom po povzetju\, pri čemer poravnate tudi strošek poštnine. Lahko pa se odločite tudi za možnost prevzema kartice na enem od prodajnih mest integriranega javnega potniškega prometa ali na prodajnem mestu Slovenskih železnic\, kjer boste plačali strošek izdaje kartice. \n3.      3. Vlogo lahko upravičenci oddate tudi po pošti na naslov Ministrstvo za infrastrukturo\, Langusova ulica 4\, 1535 Ljubljana\, s pripisom »brezplačna vozovnica Slovenija«. \nV tem primeru oddate zgolj vlogo\, ni pa vam potrebno priložiti tudi dokazil. V tem primeru bi bila izdaja kartice in plačilo stroška izdaje vezana na poštno storitev s plačilom po povzetju\, pri čemer poravnate tudi strošek poštnine. Lahko pa se odločite tudi za možnost prevzema kartice na enem od prodajnih mest integriranega javnega potniškega prometa ali na prodajnem mestu Slovenskih železnic\, kjer boste plačali strošek izdaje kartice. \n4. Vlogo lahko upravičenci oddate na Ministrstvo za infrastrukturo tudi po elektronski pošti na naslov mzi.bv@gov.si in v zadevo e-pošte napišete »brezplačna vozovnica Slovenija«. V tem primeru oddate zgolj vlogo\, ni pa vam potrebno priložiti tudi dokazil. V tem primeru bi bila izdaja kartice in plačilo stroška izdaje vezana na poštno storitev s plačilom po povzetju\, pri čemer poravnate tudi strošek poštnine. Lahko pa se odločite tudi za možnost prevzema kartice na enem od prodajnih mest integriranega javnega potniškega prometa ali na prodajnem mestu Slovenskih železnic\, kjer boste plačali strošek izdaje kartice. \nVeljavnost vozovnice? \nVozovnica velja eno leto od njene izdaje. To pomeni\, da boste upravičenci vlogo nato obnovili. \nVozovnico vam v enem letu izdajo le enkrat. \n4.  Več informacij lahko pridobite na Ministrstvu za infrastrukturo na telefonski številki 01 478 84 11 od ponedeljka do petka med 8. in 16. uro. \n \n\n\n\nBrezplačni javni medkrajevni potniški promet za vse upokojence
URL:https://pzdudolenjskeinbelekrajine.si/event-single-post-name/brezplacni-javni-medkrajevni-potniski-promet-za-upokojence/
END:VEVENT
BEGIN:VEVENT
DTSTART;TZID=Europe/Paris:20200710T100000
DTEND;TZID=Europe/Paris:20200710T153000
DTSTAMP:20260423T004814
CREATED:20200710T030205Z
LAST-MODIFIED:20200713T030307Z
UID:1689-1594375200-1594395000@pzdudolenjskeinbelekrajine.si
SUMMARY:SEJA UO ZDUS IN SKUPŠČINA HOTELA DELFIN
DESCRIPTION:Seja UO ZDUS in skupščina hotela Delfin
URL:https://pzdudolenjskeinbelekrajine.si/event-single-post-name/seja-uo-zdus-in-skupscina-hotela-delfin/
END:VEVENT
BEGIN:VEVENT
DTSTART;TZID=Europe/Paris:20200716T080000
DTEND;TZID=Europe/Paris:20200716T140000
DTSTAMP:20260423T004814
CREATED:20200706T113938Z
LAST-MODIFIED:20200706T113938Z
UID:1659-1594886400-1594908000@pzdudolenjskeinbelekrajine.si
SUMMARY:PETANKARSKA LIGA UPOKOJENCEV 2020 - DU SEMIČ - PRELOŽENO
DESCRIPTION:Pozdravljeni! \nPo priporočilu Zveze društev upokojencev Slovenije – Zveze DUS\, moramo Petansko ligo upokojencev\, ki naj bi bila 16. 7. 2020 v Semiču\, zaradi korona virusa preložiti\, saj se stanje dnevno spreminja\, riziko okužb ostaja\, prav tako je pri velikih skupinah vse težje zagotoviti dosledno upoštevanje ukrepov. \nEno DU je že imelo neprijetno situacijo\, saj so jih na prireditvi obiskali policisti in popisali slehernega udeleženca. \n  \nPredsednica DU Semič\, Irena Mali
URL:https://pzdudolenjskeinbelekrajine.si/event-single-post-name/petankarska-liga-upokojencev-2020-du-semic-prelozeno/
END:VEVENT
BEGIN:VEVENT
DTSTART;TZID=Europe/Paris:20200721T080000
DTEND;TZID=Europe/Paris:20200721T130000
DTSTAMP:20260423T004814
CREATED:20200603T072738Z
LAST-MODIFIED:20200704T124309Z
UID:1513-1595318400-1595336400@pzdudolenjskeinbelekrajine.si
SUMMARY:POHOD SPOZNAJMO DOLENJSKO – DU KOČEVJE - PONOVNO PRELOŽEN
DESCRIPTION:Zaradi poslabšanja epidemiološke situacije z zvezi z epidemijo korona virusa je vlada RS spremenila uredbo o združevanju\, in sicer iz 500 na 50 oseb\, kar pomeni\, da ne moremo organizirati Pohoda Spoznavajmo Dolenjsko in Belo Krajino\, ki je bil predviden za torek\, 21.julija 2020 v Kočevju. Pohod bomo organizirali v kasnejšem terminu\, ko bo situacija ugodna.  Za nadomestni datum se bomo dogovorili kasneje. 2. 7. 2020 \nPOHODI SPOZNAJMO DOLENJSKO IN BELO KRAJINO – RAZPORED
URL:https://pzdudolenjskeinbelekrajine.si/event-single-post-name/pohod-spoznajmo-dolenjsko-du-kocevje/
END:VEVENT
END:VCALENDAR