BEGIN:VCALENDAR
VERSION:2.0
PRODID:-//PZDU DOLENJSKE IN BELE KRAJINE - ECPv6.0.6.2//NONSGML v1.0//EN
CALSCALE:GREGORIAN
METHOD:PUBLISH
X-WR-CALNAME:PZDU DOLENJSKE IN BELE KRAJINE
X-ORIGINAL-URL:https://pzdudolenjskeinbelekrajine.si
X-WR-CALDESC:Events for PZDU DOLENJSKE IN BELE KRAJINE
REFRESH-INTERVAL;VALUE=DURATION:PT1H
X-Robots-Tag:noindex
X-PUBLISHED-TTL:PT1H
BEGIN:VTIMEZONE
TZID:Europe/Paris
BEGIN:DAYLIGHT
TZOFFSETFROM:+0100
TZOFFSETTO:+0200
TZNAME:CEST
DTSTART:20250330T010000
END:DAYLIGHT
BEGIN:STANDARD
TZOFFSETFROM:+0200
TZOFFSETTO:+0100
TZNAME:CET
DTSTART:20251026T010000
END:STANDARD
END:VTIMEZONE
BEGIN:VEVENT
DTSTART;TZID=Europe/Paris:20250101T000000
DTEND;TZID=Europe/Paris:20251231T235959
DTSTAMP:20260421T194323
CREATED:20250214T133533Z
LAST-MODIFIED:20250214T134227Z
UID:9393-1735689600-1767225599@pzdudolenjskeinbelekrajine.si
SUMMARY:PROGRAM DELA PZDU DBK 2025
DESCRIPTION:PROGRAM DELA – PZDU DOLENJSKE IN BELE KRAJINE
URL:https://pzdudolenjskeinbelekrajine.si/event-single-post-name/program-dela-pzdu-dbk-2025/
END:VEVENT
BEGIN:VEVENT
DTSTART;TZID=Europe/Paris:20251021T080000
DTEND;TZID=Europe/Paris:20251021T120000
DTSTAMP:20260421T194323
CREATED:20251014T144249Z
LAST-MODIFIED:20251014T145133Z
UID:9677-1761033600-1761048000@pzdudolenjskeinbelekrajine.si
SUMMARY:VABILO NA 99. POHOD SPOZNAJMO DOLENJSKO IN BELO KRAJINO V  ŠENTRUPERT
DESCRIPTION:DRUŠTVO UPOKOJENCEV \n\n\n\nŠENTRUPERT \n\n\n\nVas \n\n\n\nV A B I\n\n\n\nna 99. torkov pohod »SPOZNAJMO DOLENJSKO IN BELO KRAJINO«\, ki bo 21. 10. 2025\, s pričetkom ob 8. uri na ploščadi pred Deželo kozolcev.\n\n\n\nParkiranje avtobusov in osebnih vozil bo možen pred kulturnim in gasilskim domom ter na pokopališču. \n\n\n\nOb prihodu vas bo čakala kavica\, čaj\, »zdravilni napitki« in nekaj sladkega\, pozdravili pa vas bodo tudi predsednica našega društva gospa Ruža Brcar\, gospod župan Občine Šentrupert Tomaž Ramovš in gospod direktor Zavoda dežele kozolcev Primož Primec. \n\n\n\nPot nas bo peljala mimo obnovljenega kužnega znamenja\, pod Kapelo žalostne matere božje s križevim potem\, po kratkem vzponu na Veselo Goro (Baragova graščina in Cerkev sv. Frančiška Ksaverja)\, mimo Škrljevskega gradu\, v vas Draga\, kjer bomo imeli daljši postanek na ploščadi pred hišo Etnega društva in čas za malico iz nahrbtnika\, pot bomo nadaljevali mimo Izletniške kmetije Možina\, čez vas Kamnje in Vrh\, čez industrijsko cono\, v Šentrupert (Cerkev sv. Ruperta) in nazaj v Deželo kozolcev. Ker naše društvo prvič prireja ta pohod\, vas bomo na koncu tudi malo pogostili. \n\n\n\nPohod bo v vsakem vremenu\, dolžina poti je približno 8 km\, čas pohoda bo približno 3 ure in pot ni zahtevna. \n\n\n\nPriporočamo primerno obutev ter pohodne palice. \n\n\n\nPohod je na lastno odgovornost. \n\n\n\nPohod bo vodil Peter Slapšak\, dolgoletni član in markacist društva Polet Šentrupert ter markacist PZS. \n\n\n\nLEPO VABLJENI! \n\n\n\nKontaktna oseba                                                    Predsednica DU Šentrupert \n\n\n\nJerneja Kovaljev                                                    Ruža Brcar \n\n\n\n040 575 038                           
URL:https://pzdudolenjskeinbelekrajine.si/event-single-post-name/vabilo-na-99-pohod-spoznajmo-dolenjsko-in-belo-krajino-sentrupert/
END:VEVENT
END:VCALENDAR