BEGIN:VCALENDAR
VERSION:2.0
PRODID:-//PZDU DOLENJSKE IN BELE KRAJINE - ECPv6.0.6.2//NONSGML v1.0//EN
CALSCALE:GREGORIAN
METHOD:PUBLISH
X-WR-CALNAME:PZDU DOLENJSKE IN BELE KRAJINE
X-ORIGINAL-URL:https://pzdudolenjskeinbelekrajine.si
X-WR-CALDESC:Events for PZDU DOLENJSKE IN BELE KRAJINE
REFRESH-INTERVAL;VALUE=DURATION:PT1H
X-Robots-Tag:noindex
X-PUBLISHED-TTL:PT1H
BEGIN:VTIMEZONE
TZID:Europe/Paris
BEGIN:DAYLIGHT
TZOFFSETFROM:+0100
TZOFFSETTO:+0200
TZNAME:CEST
DTSTART:20200329T010000
END:DAYLIGHT
BEGIN:STANDARD
TZOFFSETFROM:+0200
TZOFFSETTO:+0100
TZNAME:CET
DTSTART:20201025T010000
END:STANDARD
BEGIN:DAYLIGHT
TZOFFSETFROM:+0100
TZOFFSETTO:+0200
TZNAME:CEST
DTSTART:20210328T010000
END:DAYLIGHT
BEGIN:STANDARD
TZOFFSETFROM:+0200
TZOFFSETTO:+0100
TZNAME:CET
DTSTART:20211031T010000
END:STANDARD
END:VTIMEZONE
BEGIN:VEVENT
DTSTART;TZID=Europe/Paris:20210615T073000
DTEND;TZID=Europe/Paris:20210615T140000
DTSTAMP:20260425T194524
CREATED:20210531T045149Z
LAST-MODIFIED:20210531T045301Z
UID:4366-1623742200-1623765600@pzdudolenjskeinbelekrajine.si
SUMMARY:45. ŠIU STRELJANJE Z ZRAČNO PUŠKO
DESCRIPTION:STRELJANJE – TOREK 15.06.2021 – DU NOVO MESTO \nStreljanje ekipno ženske in moški \nI.EKIPE \n  \nZap.št            ŽENSKE                                          DU \n\n08\,00- 08\,45     DU Kočevje  – ODPOVED– 4   DU Mali Slatnik-4   DU Trebnje – 4\n08\,45- 09\,25     DU Mirna – 4      DU Črnomelj- 4    DU Novo mesto – 4\n\n  \nII.EKIPE \n  \nZap.št            MOŠKI                                            DU \n\n09\,25- 10\,05       DU Žužemberk-4   DU Vel.Loka- 4   DU Suhor – 4\n10\,05 – 10\,45      DU Šmarjeta – 4   DU Otočec – 4    DU Šentrupert-4\n10\,45-11\,25        DU Škocjan – 4     DU Semič- 4        DU Črnomelj – 4\n11\,25-12\,05        DU Vel.Gaber- 4  DU Mali Slatnik-4   DU Novo m.- 4\n12\,05-12\,45        DU Kočevje- 4      DU Mirna- 4            DU Prečna- 4\n12\,45-13\,25        DU Uršna sela- 4   DU Trebnje- 4\n\n  \nDelegat: Janez Mohorčič (041 581 866) \n  \nOBVESTILO EKIPAM: \nNovi čas streljanja je 45 minut skupaj s pripravo ! \n  \nŠPORTNE IGRE PZDU – PZDU DOLENJSKE IN BELE KRAJINE
URL:https://pzdudolenjskeinbelekrajine.si/event-single-post-name/45-siu-streljanje-z-zracno-pusko/
END:VEVENT
BEGIN:VEVENT
DTSTART;TZID=Europe/Paris:20210612T090000
DTEND;TZID=Europe/Paris:20210612T150000
DTSTAMP:20260425T194524
CREATED:20210417T060439Z
LAST-MODIFIED:20210417T060439Z
UID:3804-1623488400-1623510000@pzdudolenjskeinbelekrajine.si
SUMMARY:SREČANJE UPOKOJENCEV NAŠE POKRAJINE - ODPOVEDANO
DESCRIPTION:– Srečanje upokojencev naše pokrajine – 12. junij v Trebnjem – ODPOVEDANO
URL:https://pzdudolenjskeinbelekrajine.si/event-single-post-name/srecanje-upokojencev-nase-pokrajine-odpovedano/
END:VEVENT
BEGIN:VEVENT
DTSTART;TZID=Europe/Paris:20210610T080000
DTEND;TZID=Europe/Paris:20210610T140000
DTSTAMP:20260425T194524
CREATED:20210531T051316Z
LAST-MODIFIED:20210604T040619Z
UID:4392-1623312000-1623333600@pzdudolenjskeinbelekrajine.si
SUMMARY:45. ŠIU ORIENTACIJSKO POHODNIŠTVO
DESCRIPTION:ORIENTACIJSKO POHODNIŠTVO – ČETRTEK\, 10. 6. 2021 \n-10. 6.2021 OB 8. URI ZA PRVO SKUPINO IN OB 9. URI ZA DRUGO SKUPINO (glej razpored) \nKRATKA NAVODILA\nDU MALI SLATNIK    \n\n EKIPE\n\nMEŠANE EKIPE \n\n\n\nZap. št.\nDU\nZap. št.\nDU\n\n\n\n1. SKUPINA  \nSTART OB 8. URI\n\n2. SKUPINA  \nSTART OB 9. URI\n\n\n1.\nVINICA\n13.\nSTRAŽA\n\n\n2.\nŠENTJERNEJ\n14.\nSODRAŽICA\n\n\n3.\nRIBNICA\n15.\nŠKOCJAN\n\n\n4.\nLOŠKI POTOK\n16.\nGABERJE\n\n\n5.\nKOSTEL – ODPOVED\n17.\nDOLENJSKE TOPLICE\n\n\n6.\nČRNOMELJ\n18.\nSEMIČ\n\n\n7.\nBELA CERKEV –ODPOVED \n \n19.\nVELIKI GABER\n\n\n8.\nKOČEVJE\n20.\nMETLIKA\n\n\n\n\n\n\n9.\n\n\n\n\n\nPODGORJE STOPIČE\n21.\nMALI SLATNIK\n\n\n10.\nURŠNA SELA\n22.\nMIRNA\n\n\n11.\nPREČNA\n23.\nTREBNJE\n\n\n12.\nNOVO MESTO\n\n\n\n\nDelegat: Janez Mohorčič (041 581 866) \nInformacije: \nFranci Dragan\, 051 322 206\, dragan.franci@gmail.com \nGRADIVO ZA VPRAŠANJA\n  \nŠPORTNE IGRE PZDU – PZDU DOLENJSKE IN BELE KRAJINE
URL:https://pzdudolenjskeinbelekrajine.si/event-single-post-name/45-siu-orientacijsko-pohodnistvo/
END:VEVENT
BEGIN:VEVENT
DTSTART;TZID=Europe/Paris:20210608T100000
DTEND;TZID=Europe/Paris:20210608T110000
DTSTAMP:20260425T194524
CREATED:20210519T041302Z
LAST-MODIFIED:20210519T041328Z
UID:4086-1623146400-1623150000@pzdudolenjskeinbelekrajine.si
SUMMARY:VIRTUALNO PREDAVANJE NA TEMO VARNA VOŽNJA PO AVTOCESTI IN HITRI CESTI
DESCRIPTION:V Komisiji za tehnično kulturo v ZDUS organiziramo različna predavanja in delavnice na temo varnosti v cestnem prometu\, ker se zavedamo\, da smo upokojenci najbolj ranljiva skupina v prometu\, zmanjšujejo se nam psihofizične lastnosti poleg tega pa se spreminja infrastruktura na cestah in prometni predpisi. Z Agencijo za varnost v prometu RS imamo podpisan sporazum\, da skupaj sodelujemo pri izobraževanju upokojencev na tem področju.\nAgencija za varnost v prometu skupaj z nami bo izvedla v torek 8.junija 2021 od 10.00 do 11.00  virtualno predavanje po zoomu na temo Varna vožnja po avtocesti in hitri cesti.\nNa predavanje se prijavite na naslednji povezavi:\n\n\n\n\n\n\nhttps://www.avp-rs.si/dogodek/projekt-sozitje-virtualni-dogodek-8-6-2021/ \nVabljeni. \n\n\n\n\n\n\n\n\n\n\n\n\n\n\nLep pozdrav\n\nBranko Suhadolnik\nBreg 9\, 4274 Žirovnica\n+386 (0)41 665 719\nbranko.suhadolnik@telemach.net
URL:https://pzdudolenjskeinbelekrajine.si/event-single-post-name/virtualno-predavanje-na-temo-varna-voznja-po-avtocesti-in-hitri-cesti/
END:VEVENT
BEGIN:VEVENT
DTSTART;TZID=Europe/Paris:20210608T080000
DTEND;TZID=Europe/Paris:20210608T130000
DTSTAMP:20260425T194524
CREATED:20210531T050659Z
LAST-MODIFIED:20210602T180556Z
UID:4381-1623139200-1623157200@pzdudolenjskeinbelekrajine.si
SUMMARY:45. ŠIU PETANKA MOŠKI
DESCRIPTION:ŠPORTNE IGRE PZDU – PZDU DOLENJSKE IN BELE KRAJINE \nPozdravljeni\, \nDU Trebnje je organizator tekmovanja v PETANKI v okviru 45.ŠIU PZDU DBk. \nMed nastopajočimi je tudi ekipa vašega DU-ja\, zato vam posredujemo nekaj navodil glede samega tekmovanja: \n\nTekmovanje se bo odvijalo v ponedeljek 7.6.2021 za ŽENSKE in torek 8.6.2021 za MOŠKE.\nIgrišča se nahajajo na lokaciji Kolodvorska ulica 1\, Trebnje (v bližini Železniške postaje)\, kjer je tudi parkirišče.\n\nhttps://www.google.si/maps/place/Kolodvorska+ulica+1\,+8210+Trebnje/@45.9077817\,15.0013652\,15z/ \n\nPričetek tekmovanja je ob 8.00 uri. (6.člen PRAVIL – Vodja ekipe je dolžan pol ure pred pričetkom tekmovanja izročiti Delegatu seznam nastopajočih in njihove potrjene članske izkaznice  in izkaznice ZPIZA\, če niso moški stari 60 in več\, ženske pa 58 in več.)\nTekmovanje bo računalniško vodeno. Igra se 5 kol po švicarskem sistemu. Čas igranja je 40 min brez dodatnega obrata. (14.člen PRAVIL – IX.PETANKA)   \nPo navodilih PZDU-ja se malice za nastopajoče NE organizirana.\n\nŽelimo vam obilo užitkov ob igri in veliko športne sreče. \nDOBRODOŠLI V TREBNJEM! \nVodja športne sekcije pri DU Trebnje \nMiro Šalehar – 041 296 876 \nPETANKA – TOREK\, 8. 6. 2021 – DU TREBNJE\, OB 8. URI \nmoški – ekipno \n  \n\n\n\nZap. št.\nDU\n\n\n1.\nDOLENJSKE TOPLICE\n\n\n2.\nKOČEVJE\n\n\n3.\nMALI SLATNIK\n\n\n4.\nŠENTJERNEJ\n\n\n5.\nMIRNA\n\n\n6.\nMIRNA PEČ\n\n\n7.\nMOKRONOG TREBELNO\n\n\n8.\nNOVO MESTO\n\n\n9.\nOTOČEC\n\n\n10.\nPODGORJE STOPIČE ODPOVED\n\n\n11.\nSEMIČ\n\n\n12.\nSODRAŽICA\n\n\n12.\nŠENTRUPERT\n\n\n13.\nTREBNJE\n\n\n15.\nURŠNA SELA\n\n\n16.\nVELIKI GABER\n\n\n17.\nVELIKA LOKA\n\n\n18.\nČRNOMELJ\n\n\n19.\nGABERJE\n\n\n20.\nPREČNA\n\n\n21.\nSTRAŽA\n\n\n\n  \nDelegat: Milena Iskra (GSM 040 900 968; milena.iskra@gmail.com) \n 
URL:https://pzdudolenjskeinbelekrajine.si/event-single-post-name/45-siu-petanka-moski/
END:VEVENT
BEGIN:VEVENT
DTSTART;TZID=Europe/Paris:20210607T080000
DTEND;TZID=Europe/Paris:20210607T140000
DTSTAMP:20260425T194524
CREATED:20210531T050011Z
LAST-MODIFIED:20210602T180320Z
UID:4378-1623052800-1623074400@pzdudolenjskeinbelekrajine.si
SUMMARY:45. ŠIU PETANKA ŽENSKE
DESCRIPTION:ŠPORTNE IGRE PZDU – PZDU DOLENJSKE IN BELE KRAJINE \nPozdravljeni\, \nDU Trebnje je organizator tekmovanja v PETANKI v okviru 45.ŠIU PZDU DBk. \nMed nastopajočimi je tudi ekipa vašega DU-ja\, zato vam posredujemo nekaj navodil glede samega tekmovanja: \n\nTekmovanje se bo odvijalo v ponedeljek 7.6.2021 za ŽENSKE in torek 8.6.2021 za MOŠKE.\nIgrišča se nahajajo na lokaciji Kolodvorska ulica 1\, Trebnje (v bližini Železniške postaje)\, kjer je tudi parkirišče.\n\nhttps://www.google.si/maps/place/Kolodvorska+ulica+1\,+8210+Trebnje/@45.9077817\,15.0013652\,15z/ \n\nPričetek tekmovanja je ob 8.00 uri. (6.člen PRAVIL – Vodja ekipe je dolžan pol ure pred pričetkom tekmovanja izročiti Delegatu seznam nastopajočih in njihove potrjene članske izkaznice  in izkaznice ZPIZA\, če niso moški stari 60 in več\, ženske pa 58 in več.)\nTekmovanje bo računalniško vodeno. Igra se 5 kol po švicarskem sistemu. Čas igranja je 40 min brez dodatnega obrata. (14.člen PRAVIL – IX.PETANKA)   \nPo navodilih PZDU-ja se malice za nastopajoče NE organizirana.\n\nŽelimo vam obilo užitkov ob igri in veliko športne sreče. \nDOBRODOŠLI V TREBNJEM! \nVodja športne sekcije pri DU Trebnje \nMiro Šalehar – 041 296 876 \nPETANKA – PONEDELJEK 7. 6. 2021 – DU TREBNJE\, OB 8. URI \nženske – ekipe \n  \n\n\n\nZap. Št.\nDU\n\n\n1.\nDOLENJSKE TOPLICE\n\n\n2.\nKOČEVJE\n\n\n3.\nMALI SLATNIK\n\n\n4.\nČRNOMELJ\n\n\n5.\nMIRNA\n\n\n6.\nMIRNA PEČ\n\n\n7.\nMOKRONOG TREBELNO\n\n\n8.\nNOVO MESTO\n\n\n9.\nOTOČEC\n\n\n10.\nPODGORJE STOPIČE ODPOVED\n\n\n11.\nPREČNA\n\n\n12.\nSEMIČ\n\n\n13.\nSODRAŽICA\n\n\n14.\nŠENTRUPERT\n\n\n15.\nTREBNJE\n\n\n16.\nVELIKI GABER\n\n\n17.\nGABERJE\n\n\n18.\nSTRAŽA\n\n\n19.\nURŠNA SELA\n\n\n\n  \nDelegat: Franci Dragan (GSM 051 322 206; dragan.franci@gmail.com) \n  \n 
URL:https://pzdudolenjskeinbelekrajine.si/event-single-post-name/45-siu-petanka-zenske/
END:VEVENT
BEGIN:VEVENT
DTSTART;TZID=Europe/Paris:20210603T080000
DTEND;TZID=Europe/Paris:20210603T150000
DTSTAMP:20260425T194524
CREATED:20210525T051057Z
LAST-MODIFIED:20210531T031211Z
UID:4184-1622707200-1622732400@pzdudolenjskeinbelekrajine.si
SUMMARY:45. ŠIU KEGLJANJE S KROGLO NA VRVICI ŽENSKE
DESCRIPTION:KEGLJANJE S KROGLO NA VRVICI – ČETREK. 3. 6. 2021 \nDU SEMIČ\, OB 8. IN 11.30 URI \n  \nEKIPE  ŽENSKE \n  \n\n\n\nZap.št.\nDU\n\n\n\n1. SKUPINA \n OB 8. URI ŽEL. POSTAJA\n\n\n1.\nŠENTJERNEJ\n\n\n2.\nNOVO MESTO\n\n\n3.\nTREBNJE\n\n\n4.\nVELIKI GABER\n\n\n\n2. SKUPINA \n OB 8. URI TVD PARTIZAN\n\n\n5.\nSTRAŽA\n\n\n6.\nOTOČEC\n\n\n7.\nMALI SLATNIK\n\n\n8.\nSEMIČ\n\n\n\n3. SKUPINA \n OB 11.30 URI ŽEL. POSTAJA\n\n\n9.\nČRNOMELJ\n\n\n10.\nKOČEVJE\n\n\n11.\nŽUŽEMBERK\n\n\n12.\nPREČNA\n\n\n\n4. SKUPINA \n OB 11.30 URI TVD PARTIZAN\n\n\n13.\nŠKOCJAN\n\n\n14.\nDOLENJSKE TOPLICE\n\n\n15.\nMIRNA\n\n\n16.\nURŠNA SELA\n\n\n16\nPODGORJE STOPIČE \n\n\n\n  \nDelegat: Sonja Starešinič – GSM 040 761 919; sonja.staresinic@gmail.com \n  \nŠPORTNE IGRE PZDU – PZDU DOLENJSKE IN BELE KRAJINE
URL:https://pzdudolenjskeinbelekrajine.si/event-single-post-name/45-siu-kegljanje-s-kroglo-na-vrvici-zenske/
LOCATION:Semič
END:VEVENT
BEGIN:VEVENT
DTSTART;TZID=Europe/Paris:20210602T080000
DTEND;TZID=Europe/Paris:20210602T150000
DTSTAMP:20260425T194524
CREATED:20210525T050813Z
LAST-MODIFIED:20210602T180748Z
UID:4182-1622620800-1622646000@pzdudolenjskeinbelekrajine.si
SUMMARY:45. ŠIU KEGLJANJE S KROGLO NA VRVICI MOŠKI
DESCRIPTION:KEGLJANJE S KROGLO NA VRVICI – SREDA 2. 6. 2021 \nDU DOLENJSKE TOPLICE\, OB 8. IN 11.30 URI \nIgrišče Podturn je pri gasilskem domu v Podturnu štev. 12. Parkirišče za vozila je na igrišču ob samem tekmovališču. V gasilskem domu je bife Florjan. \nIgrišče Dolenjske Toplice je v parku Term Dolenjske Toplice\, Zdraviliški trg 8. Parkirišče je nasproti čez cesto z brezplačnim 2 /DVE/ urnim parkiranjem /označiti prihod/ ali na parkirišču Balneje na začetku D. Toplic iz smeri Novega mesta – brez omejitev. V bližini je bife Center. \nDušan Kraševec \npredsednik \n041 792 878 \ndusan.krasevec@siol.net \n EKIPE MOŠKI \n  \n\n\n\nZap.št.\nDU\n\n\n\n1. SKUPINA \n OB 8. URI PODTURN\n\n\n1.\nSEMIČ\n\n\n2.\nVELIKI GABER\n\n\n  3.\nKOČEVJE\n\n\n4.\nŽUŽEMBERK\n\n\n\n\n\n\n\n2. SKUPINA \n OB 8. URI DOLENJSKE TOPLICE\n\n\n5.\nSTRAŽA\n\n\n6.\nPREČNA\n\n\n7.\nNOVO MESTO\n\n\n8.\nTREBNJE\n\n\n\n3. SKUPINA \n OB 11.30. URI PODTURN\n\n\n9.\nMALI SLATNIK\n\n\n10.\nŠENTJERNEJ\n\n\n11.\nMIRNA\n\n\n12.\nŠKOCJAN\n\n\n\n4. SKUPINA \n OB 11.30 URI DOLENJSKE TOPLICE\n\n\n13.\nOTOČEC\n\n\n14.\nČRNOMELJ\n\n\n15\nURŠNA SELA\n\n\n16.\nDOLENJSKE TOPLICE\n\n\n17.\nPODGORJE STOPIČE \n\n\n\n \n\n\n\nDelegat: Janez Mohorčič (041 581 866) \n  \nŠPORTNE IGRE PZDU – PZDU DOLENJSKE IN BELE KRAJINE
URL:https://pzdudolenjskeinbelekrajine.si/event-single-post-name/45-siu-kegljanje-s-kroglo-na-vrvici-moski/
LOCATION:Podturn Gasilski dom
END:VEVENT
BEGIN:VEVENT
DTSTART;TZID=Europe/Paris:20210528T080000
DTEND;TZID=Europe/Paris:20210528T130000
DTSTAMP:20260425T194524
CREATED:20210525T050453Z
LAST-MODIFIED:20210525T051352Z
UID:4180-1622188800-1622206800@pzdudolenjskeinbelekrajine.si
SUMMARY:45. ŠIU KEGLJANJE MOŠKI
DESCRIPTION:ŠPORTNE IGRE PZDU – PZDU DOLENJSKE IN BELE KRAJINE \n  \n KEGLJANJE – PETEK\, 28. 5. 2021– DU MALI SLATNIK OB 8. URI NA  \n  \n     KEGLJIŠČU VODNJAK NOVO MESTO \n                   \nmoški – ekipno – posamezno \n\n\n\nZap. št.\nMoški\nZačetek\n\n\n1.\nDU ŠKOCJAN\n 8.00\n\n\n2.\nDU MALI SLATNIK\n 8.30\n\n\n3.\nDU PODGORJE-STOPIČE\n9.00\n\n\n4.\nDU TREBNJE\n9.30\n\n\n5.\nDU MIRNA\n10.00\n\n\n6.\nDU SEMIČ\n10.30\n\n\n7.\nDU NOVO MESTO\n11.00\n\n\n8.\nDU STRAŽA\n11.30\n\n\n9.\nDU ČRNOMELJ\n12.00\n\n\n10.\nDU DOL.TOPLICE\n12.30\n\n\n11.\nDU KOČEVJE\n13.00\n\n\n\n  \nDelegat: Milena Iskra (GSM 040 900 968; milena.iskra@gmail.com) \nPOSEBNO OBVESTILO! \n  \nTekmovanje v kegljanju Ž – M\, boste letos 2021 lahko spremljali preko spletne \nkamere na naslov  – kegljanje.com na kegljišču »VODNJAK« Novo mesto. \n 
URL:https://pzdudolenjskeinbelekrajine.si/event-single-post-name/45-siu-kegljanje-moski-2/
LOCATION:Kegljišče Vodnjak Novo mesto
END:VEVENT
BEGIN:VEVENT
DTSTART;TZID=Europe/Paris:20210527T080000
DTEND;TZID=Europe/Paris:20210527T130000
DTSTAMP:20260425T194524
CREATED:20210525T050241Z
LAST-MODIFIED:20210525T051437Z
UID:4178-1622102400-1622120400@pzdudolenjskeinbelekrajine.si
SUMMARY:45. ŠIU KEGLJANJE ŽENSKE
DESCRIPTION:ŠPORTNE IGRE PZDU – PZDU DOLENJSKE IN BELE KRAJINE \n  \n  \nKEGLJANJE – ČETRTEK\, 27. 5. 2021 – DU MALI SLATNIK\, OB 8. URI  NA  \n  \n      KEGLJIŠČU VODNJAK NOVO MESTO \n  \nženske -ekipno- posamezno \n  \n  \n\n EKIPE\n\n  \n\n\n\nZap. št.\nŽenske\nZačetek\n\n\n1.\n\n 8.00\n\n\n2.\nDU KOČEVJE\n 8.30\n\n\n3.\nDU ŠKOCJAN\n9.00\n\n\n4.\nDU NOVO MESTO\n9.30\n\n\n5.\nDU STRAŽA\n10.00\n\n\n6.\nDU STOPIČE\n10.30\n\n\n7.\nDU MALI SLATNIK\n11.00\n\n\n8.\nDU MIRNA\n11.30\n\n\n9.\nDU ČRNOMELJ\n12.00\n\n\n  10.\nDU TREBNJE\n12.30\n\n\n\n  \n  \nDelegat: Franci Dragan (GSM 051 322 206; dragan.franci@gmail.com) \n  \nPOSEBNO OBVESTILO! \n  \nTekmovanje v kegljanju Ž – M\, boste letos 2021 lahko spremljali preko spletne \nkamere na naslov  – kegljanje.com na kegljišču »VODNJAK« Novo mesto. \n 
URL:https://pzdudolenjskeinbelekrajine.si/event-single-post-name/45-siu-kegljanje-zenske-2/
LOCATION:Kegljišče Vodnjak Novo mesto
END:VEVENT
BEGIN:VEVENT
DTSTART;TZID=Europe/Paris:20210518T120000
DTEND;TZID=Europe/Paris:20210518T120000
DTSTAMP:20260425T194524
CREATED:20210517T040254Z
LAST-MODIFIED:20210517T040254Z
UID:4044-1621339200-1621339200@pzdudolenjskeinbelekrajine.si
SUMMARY:SPLETNA RAZPRAVA ZDUS: KAKO SMO STAREJŠI OBČUTILI COVID-19?
DESCRIPTION:Spletna razprava ZDUS: Kako smo starejši občutili Covid-19? \n  \nSpoštovani\, \n  \nvljudno vabljeni k spremljanju spletne razprave ZDUS: Kako smo starejši občutili Covid-19? \nTorek\, 18. 5. ob 12.00 na Youtube povezavi: https://www.youtube.com/watch?v=Gb701Hnyqms \n  \nSodelujejo: \n\nJanez Sušnik\, predsednik ZDUS\nCveto Uršič\, državni sekretar na Ministrstvu za delo\, družino\, socialne zadeve in enake možnosti\nmag. Rosvita Svenšek\, predsednica Komisije ZDUS za socialno in zdravstveno varstvo\nmag. Barbara Kobal Tomc\, direktorica Inštituta RS za socialno varstvo\nVijola Bertalanič\, PPZDU Pomurje in predsednica Programskega sveta programa Starejši za starejše\nMarko Pritržnik\, direktor Mladinskega centra Velenje\n\n  \nPovezuje: Črt Kanoni\, odgovorni urednik revije ZDUS Plus.
URL:https://pzdudolenjskeinbelekrajine.si/event-single-post-name/spletna-razprava-zdus-kako-smo-starejsi-obcutili-covid-19/
END:VEVENT
BEGIN:VEVENT
DTSTART;VALUE=DATE:20210504
DTEND;VALUE=DATE:20210519
DTSTAMP:20260425T194524
CREATED:20210504T052910Z
LAST-MODIFIED:20210705T060423Z
UID:3879-1620086400-1621382399@pzdudolenjskeinbelekrajine.si
SUMMARY:RAZPIS LIGA PZDU V KEGLJANJU S KROGLO NA VRVICI 
DESCRIPTION:RAZPIS LIGA PZDU V KEGLJANJU S KROGLO NA VRVICI
URL:https://pzdudolenjskeinbelekrajine.si/event-single-post-name/razpis-liga-pzdu-v-kegljanju-s-kroglo-na-vrvici/
END:VEVENT
BEGIN:VEVENT
DTSTART;VALUE=DATE:20210503
DTEND;VALUE=DATE:20210529
DTSTAMP:20260425T194524
CREATED:20210504T042932Z
LAST-MODIFIED:20210504T050140Z
UID:3871-1620000000-1622246399@pzdudolenjskeinbelekrajine.si
SUMMARY:RAZPISA PZDU: LITERATI IN SLIKARJI
DESCRIPTION:  \n \nRAZPISA: LITERATI IN SLIKARJI
URL:https://pzdudolenjskeinbelekrajine.si/event-single-post-name/razpisa-literati-in-slikarji/
END:VEVENT
BEGIN:VEVENT
DTSTART;VALUE=DATE:20210501
DTEND;VALUE=DATE:20210601
DTSTAMP:20260425T194524
CREATED:20210505T060737Z
LAST-MODIFIED:20210524T082331Z
UID:3907-1619827200-1622505599@pzdudolenjskeinbelekrajine.si
SUMMARY:SIMBIOZA - MED GENERACIJAMI
DESCRIPTION:
URL:https://pzdudolenjskeinbelekrajine.si/event-single-post-name/simbioza-giba-gibamo-skupaj-tako-da-smo-narazen/
END:VEVENT
BEGIN:VEVENT
DTSTART;TZID=Europe/Paris:20210415T093000
DTEND;TZID=Europe/Paris:20210415T103000
DTSTAMP:20260425T194524
CREATED:20210324T063245Z
LAST-MODIFIED:20210324T063849Z
UID:3627-1618479000-1618482600@pzdudolenjskeinbelekrajine.si
SUMMARY:PROJEKT SOŽITJE – VIRTUALNI DOGODEK – 15. 4. 2021
DESCRIPTION:Agencija za varnost prometa – AVP\nProjekt Sožitje za večjo varnost v cestnem prometu \nZ namenom\, da bi se starejši vozniki in voznice na naših cestah čim dlje počutili varne in da bi čim dlje ostali mobilni\, smo na Javni agenciji Republike Slovenije za varnost prometa v sodelovanju z  Zvezo društev upokojencev Slovenije in drugimi\, pripravili virtualni dogodek \n(klik) »SOŽITJE ZA VEČJO VARNOST V CESTNEM PROMETU«
URL:https://pzdudolenjskeinbelekrajine.si/event-single-post-name/projekt-sozitje-virtualni-dogodek-15-4-2021/
END:VEVENT
BEGIN:VEVENT
DTSTART;VALUE=DATE:20210410
DTEND;VALUE=DATE:20210411
DTSTAMP:20260425T194524
CREATED:20210301T075615Z
LAST-MODIFIED:20210301T075615Z
UID:3531-1618012800-1618099199@pzdudolenjskeinbelekrajine.si
SUMMARY:12. DAN ZA SPREMEMBE - PREMAGAJMO OSAMLJENOST\, 10. april 2021
DESCRIPTION:(klik) 12. DAN ZA SPREMEMBE – PREMAGAJMO OSAMLJENOST\, 10. april 2021
URL:https://pzdudolenjskeinbelekrajine.si/event-single-post-name/12-dan-za-spremembe-premagajmo-osamljenost-10-april-2021/
END:VEVENT
BEGIN:VEVENT
DTSTART;TZID=Europe/Paris:20210329T090000
DTEND;TZID=Europe/Paris:20210517T000000
DTSTAMP:20260425T194524
CREATED:20210410T050053Z
LAST-MODIFIED:20210410T051958Z
UID:3755-1617008400-1621209600@pzdudolenjskeinbelekrajine.si
SUMMARY:LIGA PETANKA PZDU DBK 2021
DESCRIPTION:ŠPORTNE IGRE PZDU 2021    \n(klik) LIGA PETANKA PZDU DBK 2021
URL:https://pzdudolenjskeinbelekrajine.si/event-single-post-name/liga-petanka-pzdu-dbk-2021/
END:VEVENT
BEGIN:VEVENT
DTSTART;VALUE=DATE:20210315
DTEND;VALUE=DATE:20210508
DTSTAMP:20260425T194524
CREATED:20210318T080336Z
LAST-MODIFIED:20210429T131026Z
UID:3615-1615766400-1620431999@pzdudolenjskeinbelekrajine.si
SUMMARY:NATEČAJ ZDUS ZA ROKODELSKI IZDELEK NA TEMO VSE CVETI IN DEHTI
DESCRIPTION:Komisija za tehnično kulturo \nLjubljana\, 15.3.2021 \n(klik) Natečaj za rokodelski izdelek na temo: Vse cveti in dehti \nOBVESTILO ROKODELCEM!\nJutri\, v petek 30.4. poteče rok za oddajo izdelkov za objavljen natečaj. Ker je ZDUS v teh zadnjih aprilskih dneh zaprt zaradi kolektivnega dopusta in praznikov\, predsednik KTT Branko Suhadolnik sporoča vsem rokodelkam in rokodelcem\, da je rok za oddajo izdelkov podaljšan za teden dni. Zdaj pa veselo nazaj k delu\, vsem pa želimo\, da naredijo izdelek kariere.\n 
URL:https://pzdudolenjskeinbelekrajine.si/event-single-post-name/natecaj-zdus-za-rokodelski-izdelek-na-temo-vse-cveti-in-dehti/
END:VEVENT
BEGIN:VEVENT
DTSTART;VALUE=DATE:20210315
DTEND;VALUE=DATE:20210429
DTSTAMP:20260425T194524
CREATED:20210318T075951Z
LAST-MODIFIED:20210410T041926Z
UID:3613-1615766400-1619654399@pzdudolenjskeinbelekrajine.si
SUMMARY:NATEČAJ ZDUS ZA FOTOGRAFIJE ŽIVŽAV NA ULICI
DESCRIPTION:Komisija za tehnično kulturo \nLjubljana\, 15.3.2021 \n  \n(klik) Natečaj za fotografije  Živžav na ulici \n  \n 
URL:https://pzdudolenjskeinbelekrajine.si/event-single-post-name/natecaj-zdus-za-fotografije-zivzav-na-ulici/
END:VEVENT
BEGIN:VEVENT
DTSTART;TZID=Europe/Paris:20210309T080000
DTEND;TZID=Europe/Paris:20210319T100000
DTSTAMP:20260425T194524
CREATED:20210309T125334Z
LAST-MODIFIED:20210412T134249Z
UID:3572-1615276800-1616148000@pzdudolenjskeinbelekrajine.si
SUMMARY:RAZPIS  TEKMOVANJA  V PETANKI  »LIGA« PZDU 2021 - ROK PRIJAVE 19. 3. 2021
DESCRIPTION: RAZPIS  TEKMOVANJA  V PETANKI  »LIGA« PZDU 2021 \n S PRIČETKOM  V PONEDELJEK 29. 3. 2021 OB 8.00 URI \nIgralni sistem bo prilagojen na podlagi števila prijavljenih ekip. Praviloma se bo igralo 5 tekem doma in 5 v gosteh po priloženih pravilih. Najboljših 8 ekip bo igralo še četrt\, polfinale in finale. Prve štiri ekipe prejmejo pokale. Igrajo mešane moške in ženske ekipe. DU lahko prijavi največ 2 ekipi. V ekipi je lahko 3-5 igralcev. \n Prijave do petka 19. 3. 2021: Milena Iskra\, tel. 040 900 968\, \nmilena.iskra@gmail.com \n Predsednik komisije za šport pri PZDU                   Predsednik PZDU Dolenjske in Bele Krajine \nFranci Dragan                                                     Dušan Kraševec \n  \npravila
URL:https://pzdudolenjskeinbelekrajine.si/event-single-post-name/razpis-tekmovanja-v-petanki-liga-pzdu-2021/
END:VEVENT
BEGIN:VEVENT
DTSTART;VALUE=DATE:20210301
DTEND;VALUE=DATE:20210401
DTSTAMP:20260425T194524
CREATED:20210302T075150Z
LAST-MODIFIED:20210302T075150Z
UID:3535-1614556800-1617235199@pzdudolenjskeinbelekrajine.si
SUMMARY:ROKODELSKA RAZSTAVA PZDU DOLENJSKE IN BELE KRAJINE V LETU 2021 - RAZPIS
DESCRIPTION:(klik) RAZPISI – PZDU DOLENJSKE IN BELE KRAJINE
URL:https://pzdudolenjskeinbelekrajine.si/event-single-post-name/rokodelska-razstava-pzdu-dolenjske-in-bele-krajine-v-letu-2021-razpis/
END:VEVENT
BEGIN:VEVENT
DTSTART;VALUE=DATE:20210220
DTEND;VALUE=DATE:20210302
DTSTAMP:20260425T194524
CREATED:02020121T075032Z
LAST-MODIFIED:20210121T111812Z
UID:1882-1613779200-1614643199@pzdudolenjskeinbelekrajine.si
SUMMARY:Z BREZPLAČNIM PREVOZOM V HOTEL DELFIN V IZOLO - PREKLIC
DESCRIPTION:  \nPREKLIC \nIzola\, 21. 1. 2021 \nPozdravljeni\, \nnajprej vam želim vsem skupaj res eno bolj mirno leto in predvsem zdravo! \nŽal moram sporočiti\, da zaradi trenutne situacije\, preklicujem  vaše rezervacije za termine 20.2. in 22.2.2021. Najverjetneje bomo vse avtobuse prestavili na konec leta 2021 in začetek leta 2022. Nov datum bom še sporočila. \nDaša Ždrnja Gregorič \nProdaja \nDELFIN HOTEL ZDUS  d.o.o. Izola \nT:  05/ 66 07 559 \nwww.hotel-delfin.si \nwww.facebook.com/hoteldelfinizola \n  \n(klik) FEBRUARJA Z BREZPLAČNIM PREVOZOM V HOTEL DELFIN V IZOLO! – PREKLICANO
URL:https://pzdudolenjskeinbelekrajine.si/event-single-post-name/z-brezplacnim-prevozom-v-hotel-delfin-v-izolo/
END:VEVENT
BEGIN:VEVENT
DTSTART;TZID=Europe/Paris:20210217T100000
DTEND;TZID=Europe/Paris:20210303T110000
DTSTAMP:20260425T194524
CREATED:20210210T081854Z
LAST-MODIFIED:20210210T082055Z
UID:3426-1613556000-1614769200@pzdudolenjskeinbelekrajine.si
SUMMARY:VIRTUALNO SREČANJE PROMET DANES IN JUTRI
DESCRIPTION:Upokojenci smo najbolj ranljiva skupina v cestnem prometu kajti naše psihofizične sposobnosti se zmanjšujejo\, poleg tega pa nova cestna infrastruktura in spremembe v cestno prometnih predpisih narekujejo\, da svoje znanje pogosteje obnavljamo. \nKomisija za tehnično kulturo ZDUS\, ki pokriva področje Varnost v prometu\, ima usmeritve\, da organizira različne oblike izobraževanja na tem področju\, ki pa jih lani in letos ne moremo izvajati na terenu. \nVendar se ne damo in smo se dogovorili z Agencijo za varnost prometa RS\, s katero zelo dobro sodelujemo\, da bomo upokojenci v ZDUS virtualno obnovili znanje iz cestno prometnih predpisov ( preko zooma ). Predavatelj bo Rado Jeromel iz Agencije\, ki ima veliko teoretičnega in predvsem praktičnega znanja na tem področju. \nPredavanja bodo ob sredah: 17.2.\,  24.2. in 3.3.2021 vedno od 10.00 do 11.00. \nProsim vse interesente\, da se prijavijo po mailu na naslov: tajnistvo@zdus-zveza.si . Rok prijave je vključno 14.februar 2021. \nZoom nam omejuje sodelovanje največ 90 udeležencev zato bomo udeležence izbrali po zaporedju prijav. Ni pa omejitev\, če z vami na eni povezavi sodelujejo na tem srečanju tudi vaši svojci in prijatelji. Če pa bo velik odziv pa bomo omenjena srečanja ponovili. \n  \nIzbranim udeležencem bomo poslali povezavo na zoom po mailu v torek 16.2.2021. \nVabljeni\, bo zanimivo. \nLep pozdrav \n\nBranko Suhadolnik \nBreg 9\, 4274 Žirovnica \n+386 (0)41 665 719 \nbranko.suhadolnik@telemach.net
URL:https://pzdudolenjskeinbelekrajine.si/event-single-post-name/virtualno-srecanje-promet-danes-in-jutri/
END:VEVENT
BEGIN:VEVENT
DTSTART;TZID=Europe/Paris:20210205T120000
DTEND;TZID=Europe/Paris:20210205T120000
DTSTAMP:20260425T194524
CREATED:20210129T120156Z
LAST-MODIFIED:20210207T072820Z
UID:3318-1612526400-1612526400@pzdudolenjskeinbelekrajine.si
SUMMARY:VABILO DU VELIKI GABER ZA KULTURNI PRAZNIK
DESCRIPTION:OGLED DOGODKA \n(klik) Vabilo DU Veliki Gaber
URL:https://pzdudolenjskeinbelekrajine.si/event-single-post-name/vabilo-du-veliki-gaber-za-kulturni-praznik/
END:VEVENT
BEGIN:VEVENT
DTSTART;VALUE=DATE:20210114
DTEND;VALUE=DATE:20210601
DTSTAMP:20260425T194524
CREATED:20210114T071309Z
LAST-MODIFIED:20210517T040415Z
UID:3139-1610582400-1622505599@pzdudolenjskeinbelekrajine.si
SUMMARY:POVEZAVE NA AKTUALNE DOGODKE NA DALJAVO - V ŽIVO
DESCRIPTION:V času omejitev zaradi korone je priporočljivo delovanje na daljavo. \n  \n \nDelfinove gibalne minutke (vsak ponedeljek ob 9h) \n_______________________________ \n  \n \n(klik) Izobraževanja za prostovoljke in prostovoljce \n_______________________________ \n \nVGC SKUPAJ \n_______________________________ \n \nSIMBIOZA/AKTUALNO \n________________________________ \n \nFACEBOOK V ŽIVO \n_________________________________ \n \nNAPOVEDNIK \n__________________________________ \nSporočite mi kaj še dodamo!
URL:https://pzdudolenjskeinbelekrajine.si/event-single-post-name/povezave-na-aktualne-dogodke-na-daljavo/
END:VEVENT
BEGIN:VEVENT
DTSTART;VALUE=DATE:20201231
DTEND;VALUE=DATE:20210201
DTSTAMP:20260425T194524
CREATED:20201231T090840Z
LAST-MODIFIED:20201231T092131Z
UID:2961-1609372800-1612137599@pzdudolenjskeinbelekrajine.si
SUMMARY:NATEČAJ ZA ROKODELSKI IZDELEK NA TEMO: DA NAM BO TOPLO
DESCRIPTION:Komisija za tehnično kulturo \n  \n(klik) Natečaj za rokodelski izdelek na temo: Da nam bo toplo
URL:https://pzdudolenjskeinbelekrajine.si/event-single-post-name/natecaj-za-rokodelski-izdelek-na-temo-da-nam-bo-toplo/
END:VEVENT
BEGIN:VEVENT
DTSTART;TZID=Europe/Paris:20201223T090000
DTEND;TZID=Europe/Paris:20201223T103000
DTSTAMP:20260425T194524
CREATED:20201216T114621Z
LAST-MODIFIED:20201216T114621Z
UID:2855-1608714000-1608719400@pzdudolenjskeinbelekrajine.si
SUMMARY:VIDEO SEJA UO PZDU
DESCRIPTION:Video seja UO PZDU.
URL:https://pzdudolenjskeinbelekrajine.si/event-single-post-name/video-seja-uo-pzdu/
END:VEVENT
BEGIN:VEVENT
DTSTART;VALUE=DATE:20201219
DTEND;VALUE=DATE:20210201
DTSTAMP:20260425T194524
CREATED:20201220T073124Z
LAST-MODIFIED:20201221T051038Z
UID:2881-1608336000-1612137599@pzdudolenjskeinbelekrajine.si
SUMMARY:NATEČAJ ZDUS KTK ZA FOTOGRAFIJO "Z ROČNIMI DELI SI KRAJŠAMO ČAS"
DESCRIPTION:(klik) Natečaj ZDUS KTK za fotografijo Z ročnimi deli si krajšamo čas (Rok 31. 1. 2021)
URL:https://pzdudolenjskeinbelekrajine.si/event-single-post-name/natecaj-zdus-ktk-za-fotografijo-z-rocnimi-deli-si-krajsamo-cas/
END:VEVENT
BEGIN:VEVENT
DTSTART;VALUE=DATE:20201216
DTEND;VALUE=DATE:20210107
DTSTAMP:20260425T194524
CREATED:20201216T070219Z
LAST-MODIFIED:20201231T092326Z
UID:2846-1608076800-1609977599@pzdudolenjskeinbelekrajine.si
SUMMARY:POROČEVALEC  PZDU št. 2/2020
DESCRIPTION:(klik) POROČEVALEC  št. 2/2020
URL:https://pzdudolenjskeinbelekrajine.si/event-single-post-name/porocevalec-pzdu-st-2-2020/
END:VEVENT
BEGIN:VEVENT
DTSTART;TZID=Europe/Paris:20201215T080000
DTEND;TZID=Europe/Paris:20201215T133000
DTSTAMP:20260425T194524
CREATED:20200603T073831Z
LAST-MODIFIED:20201123T185627Z
UID:1526-1608019200-1608039000@pzdudolenjskeinbelekrajine.si
SUMMARY:POHOD SPOZNAJMO DOLENJSKO – DU MOKRONOG TREBELNO - ODPOVEDAN
DESCRIPTION:POHODI SPOZNAJMO DOLENJSKO IN BELO KRAJINO – RAZPORED
URL:https://pzdudolenjskeinbelekrajine.si/event-single-post-name/pohod-spoznajmo-dolenjsko-du-mokronog-trebelno/
END:VEVENT
END:VCALENDAR