BEGIN:VCALENDAR
VERSION:2.0
PRODID:-//PZDU DOLENJSKE IN BELE KRAJINE - ECPv6.0.6.2//NONSGML v1.0//EN
CALSCALE:GREGORIAN
METHOD:PUBLISH
X-ORIGINAL-URL:https://pzdudolenjskeinbelekrajine.si
X-WR-CALDESC:Events for PZDU DOLENJSKE IN BELE KRAJINE
REFRESH-INTERVAL;VALUE=DURATION:PT1H
X-Robots-Tag:noindex
X-PUBLISHED-TTL:PT1H
BEGIN:VTIMEZONE
TZID:Europe/Paris
BEGIN:DAYLIGHT
TZOFFSETFROM:+0100
TZOFFSETTO:+0200
TZNAME:CEST
DTSTART:20250330T010000
END:DAYLIGHT
BEGIN:STANDARD
TZOFFSETFROM:+0200
TZOFFSETTO:+0100
TZNAME:CET
DTSTART:20251026T010000
END:STANDARD
BEGIN:DAYLIGHT
TZOFFSETFROM:+0100
TZOFFSETTO:+0200
TZNAME:CEST
DTSTART:20260329T010000
END:DAYLIGHT
BEGIN:STANDARD
TZOFFSETFROM:+0200
TZOFFSETTO:+0100
TZNAME:CET
DTSTART:20261025T010000
END:STANDARD
END:VTIMEZONE
BEGIN:VEVENT
DTSTART;TZID=Europe/Paris:20250101T000000
DTEND;TZID=Europe/Paris:20251231T235959
DTSTAMP:20260421T195258
CREATED:20250214T133533Z
LAST-MODIFIED:20250214T134227Z
UID:9393-1735689600-1767225599@pzdudolenjskeinbelekrajine.si
SUMMARY:PROGRAM DELA PZDU DBK 2025
DESCRIPTION:PROGRAM DELA – PZDU DOLENJSKE IN BELE KRAJINE
URL:https://pzdudolenjskeinbelekrajine.si/event-single-post-name/program-dela-pzdu-dbk-2025/
END:VEVENT
BEGIN:VEVENT
DTSTART;TZID=Europe/Paris:20251216T090000
DTEND;TZID=Europe/Paris:20251216T120000
DTSTAMP:20260421T195258
CREATED:20251210T120826Z
LAST-MODIFIED:20251210T120827Z
UID:9780-1765875600-1765886400@pzdudolenjskeinbelekrajine.si
SUMMARY:VABILO NA 101. POHOD SPOZNAJMO DBK V TREBNJE
DESCRIPTION:VABILO NA 101. POHOD SPOZNAJMO DBK V TREBNJE
URL:https://pzdudolenjskeinbelekrajine.si/event-single-post-name/vabilo-na-101-pohod-spoznajmo-dbk-v-trebnje/
END:VEVENT
BEGIN:VEVENT
DTSTART;TZID=Europe/Paris:20260101T000000
DTEND;TZID=Europe/Paris:20260215T000000
DTSTAMP:20260421T195258
CREATED:20260107T062038Z
LAST-MODIFIED:20260204T144642Z
UID:9806-1767225600-1771113600@pzdudolenjskeinbelekrajine.si
SUMMARY:PODALJŠANJE RAZPISA ZA ČLANE KOMISIJE ZA ŠPORT\, REKREACIJO IN GIBALNO KULTURO PZDU DBK
DESCRIPTION:Spoštovani\, \n\n\n\nSporočam vam\, da se je zaključil razpis za člane Komisije za šport in gibalno kulturo v PZDU DBK. V roku so se prijavili: \n\n\n\n\nLeon Bezlaj\, Semič\n\n\n\nRafko Križman\, Novo mesto\n\n\n\nBrane Krošelj\,\n\n\n\nFranc Hudoklin\, Šentjernej\n\n\n\n\nKer ni dovolj kandidatov (potrebujemo še dva)\, podaljšujemo rok prijave do 15.2.2026 in vas prosimo\, da jo pošljete na email naslov: \n\n\n\npzdu-dolenjske@t-2.net. Pred sejo UO PZDU DBK\, bi bo 20. 2. 2026\, bo vloge obravnavala Komisija za kadrovska vprašanja\, UO pa bo sklepal o sprejemu članov. \n\n\n\nLep pozdrav\, \n\n\n\nCirila Surina Zajc \n\n\n\nPredsednica Pokrajinske zveze DU Dolenjske in Bele krajine
URL:https://pzdudolenjskeinbelekrajine.si/event-single-post-name/razpis-za-clane-komisije-za-sport-rekreacijo-in-gibalno-kulturo-pzdu-dbk/
END:VEVENT
BEGIN:VEVENT
DTSTART;TZID=Europe/Paris:20260119T000000
DTEND;TZID=Europe/Paris:20261221T000000
DTSTAMP:20260421T195258
CREATED:20260122T115952Z
LAST-MODIFIED:20260122T120144Z
UID:9833-1768780800-1797811200@pzdudolenjskeinbelekrajine.si
SUMMARY:REZPORED POHODOV SPOZNAJMO DOLENJSKO IN BELO KRAJINO 2026
DESCRIPTION:REZPORED POHODOV SPOZNAJMO DOLENJSKO IN BELO KRAJINO 2026
URL:https://pzdudolenjskeinbelekrajine.si/event-single-post-name/rezpored-pohodov-spoznajmo-dolenjsko-in-belo-krajino-2026/
END:VEVENT
BEGIN:VEVENT
DTSTART;TZID=Europe/Paris:20260120T090000
DTEND;TZID=Europe/Paris:20260120T120000
DTSTAMP:20260421T195258
CREATED:20260115T190725Z
LAST-MODIFIED:20260115T190931Z
UID:9827-1768899600-1768910400@pzdudolenjskeinbelekrajine.si
SUMMARY:102.POHOD SPOZNAJMO DOLENJSKO IN BELO KRAJINO ČRNOMELJ - DOBLIČE
DESCRIPTION:102.POHOD SPOZNAJMO DOLENJSKO IN BELO KRAJINO ČRNOMELJ – DOBLIČE
URL:https://pzdudolenjskeinbelekrajine.si/event-single-post-name/102-pohod-spoznajmo-dolenjsko-in-belo-krajino-crnomelj-doblice/
END:VEVENT
BEGIN:VEVENT
DTSTART;TZID=Europe/Paris:20260211T000000
DTEND;TZID=Europe/Paris:20260220T235959
DTSTAMP:20260421T195258
CREATED:20260212T065623Z
LAST-MODIFIED:20260212T065624Z
UID:9855-1770768000-1771631999@pzdudolenjskeinbelekrajine.si
SUMMARY:RAZPIS ZA ORGANIZACIJO IN IZVEDBO ROKODELSKE RAZSTAVE
DESCRIPTION:RAZPIS ZA ORGANIZACIJO IN IZVEDBO ROKODELSKE RAZSTAVE
URL:https://pzdudolenjskeinbelekrajine.si/event-single-post-name/razpis-za-organizacijo-in-izvedbo-rokodelske-razstave/
END:VEVENT
BEGIN:VEVENT
DTSTART;TZID=Europe/Paris:20260217T091500
DTEND;TZID=Europe/Paris:20260217T120000
DTSTAMP:20260421T195258
CREATED:20260208T185402Z
LAST-MODIFIED:20260208T185403Z
UID:9852-1771319700-1771329600@pzdudolenjskeinbelekrajine.si
SUMMARY:VABILO NA 103. POHOD SPOZNAJMO DOLENJSKO IN BELO KRAJINO NA URŠNA SELA
DESCRIPTION:VABILO NA 103. POHOD SPOZNAJMO DOLENJSKO IN BELO KRAJINO NA URŠNA SELA
URL:https://pzdudolenjskeinbelekrajine.si/event-single-post-name/vabilo-na-103-pohod-spoznajmo-dolenjsko-in-belo-krajino-na-ursna-sela/
END:VEVENT
BEGIN:VEVENT
DTSTART;TZID=Europe/Paris:20260311T000000
DTEND;TZID=Europe/Paris:20260413T235959
DTSTAMP:20260421T195258
CREATED:20260405T061730Z
LAST-MODIFIED:20260405T062008Z
UID:9901-1773187200-1776124799@pzdudolenjskeinbelekrajine.si
SUMMARY:RAZPIS ZA NEPOVRATNA SREDSTVA ZA ROKODELCE – FIZIČNE OSEBE
DESCRIPTION:RAZPIS ZA NEPOVRATNA SREDSTVA ZA ROKODELCE – FIZIČNE OSEBE – PZDU DOLENJSKE IN BELE K
URL:https://pzdudolenjskeinbelekrajine.si/event-single-post-name/razpis-za-nepovratna-sredstva-za-rokodelce-fizicne-osebe/
END:VEVENT
BEGIN:VEVENT
DTSTART;TZID=Europe/Paris:20260312T000000
DTEND;TZID=Europe/Paris:20260312T235959
DTSTAMP:20260421T195258
CREATED:20260306T063716Z
LAST-MODIFIED:20260306T063717Z
UID:9880-1773273600-1773359999@pzdudolenjskeinbelekrajine.si
SUMMARY:RAZPIS ZA KANDIDATA ZA KOMISIJO ZA ŠPORT REKREACIJO IN GIBALNO KULTURO
DESCRIPTION:RAZPIS ZA KANDIDATA ZA KOMISIJO ZA ŠPORT REKREACIJO IN GIBALNO KULTURO
URL:https://pzdudolenjskeinbelekrajine.si/event-single-post-name/razpis-za-kandidata-za-komisijo-za-sport-rekreacijo-in-gibalno-kulturo/
END:VEVENT
END:VCALENDAR