BEGIN:VCALENDAR
VERSION:2.0
PRODID:-//PZDU DOLENJSKE IN BELE KRAJINE - ECPv6.0.6.2//NONSGML v1.0//EN
CALSCALE:GREGORIAN
METHOD:PUBLISH
X-WR-CALNAME:PZDU DOLENJSKE IN BELE KRAJINE
X-ORIGINAL-URL:https://pzdudolenjskeinbelekrajine.si
X-WR-CALDESC:Events for PZDU DOLENJSKE IN BELE KRAJINE
REFRESH-INTERVAL;VALUE=DURATION:PT1H
X-Robots-Tag:noindex
X-PUBLISHED-TTL:PT1H
BEGIN:VTIMEZONE
TZID:Europe/Paris
BEGIN:DAYLIGHT
TZOFFSETFROM:+0100
TZOFFSETTO:+0200
TZNAME:CEST
DTSTART:20230326T010000
END:DAYLIGHT
BEGIN:STANDARD
TZOFFSETFROM:+0200
TZOFFSETTO:+0100
TZNAME:CET
DTSTART:20231029T010000
END:STANDARD
BEGIN:DAYLIGHT
TZOFFSETFROM:+0100
TZOFFSETTO:+0200
TZNAME:CEST
DTSTART:20240331T010000
END:DAYLIGHT
BEGIN:STANDARD
TZOFFSETFROM:+0200
TZOFFSETTO:+0100
TZNAME:CET
DTSTART:20241027T010000
END:STANDARD
BEGIN:DAYLIGHT
TZOFFSETFROM:+0100
TZOFFSETTO:+0200
TZNAME:CEST
DTSTART:20250330T010000
END:DAYLIGHT
BEGIN:STANDARD
TZOFFSETFROM:+0200
TZOFFSETTO:+0100
TZNAME:CET
DTSTART:20251026T010000
END:STANDARD
END:VTIMEZONE
BEGIN:VEVENT
DTSTART;TZID=Europe/Paris:20250715T080000
DTEND;TZID=Europe/Paris:20250715T120000
DTSTAMP:20260419T162426
CREATED:20250713T134401Z
LAST-MODIFIED:20250714T051026Z
UID:9617-1752566400-1752580800@pzdudolenjskeinbelekrajine.si
SUMMARY:96. POHOD SPOZNAJMO DOLENJSKO IN BELO KRAJINO DU PODGRAD
DESCRIPTION:V A B I L O\n\n\n\nDU PODGRAD vabi na meddruštveni pohod SDB \n\n\n\nv torek\, 15. julija 2025\, s pričetkom ob 8. uri \n\n\n\nZbirno mesto pohodnikov bo pri Podružnični osnovni šoli Podgrad in gasilskem domu PGD PODGRAD. \n\n\n\nUdeleženci pohoda\, ki boste prihajali iz smeri Bela krajina\, zavijete na odcepu za Podgrad levo\, vsi iz smeri NM pa na odcepu za Podgrad desno. \n\n\n\nParkiranje bo organizirano 5 minut hoje pred zbirnim mestom. Prosimo\, da upoštevate navodila redarjev. \n\n\n\nPot bo prilagojena tako časovno\, kot težavnostno. Kot organizator priporočamo primerno obutev\, pohodne palice in dobro voljo. \n\n\n\nPOHOD JE NA LASTNO ODGOVORNOST \n\n\n\nKontakt: Ivan Šušteršič 041 392 671 \n\n\n\n               Jože Bačar 041 959 198 \n\n\n\n\n\n\n\nPredsednik DU Podgrad: \n\n\n\nJože Bačar
URL:https://pzdudolenjskeinbelekrajine.si/event-single-post-name/95-pohod-spoznajmo-dolnenjsko-in-belo-krajino-du-podgrad/
END:VEVENT
BEGIN:VEVENT
DTSTART;TZID=Europe/Paris:20250531T100000
DTEND;TZID=Europe/Paris:20250531T150000
DTSTAMP:20260419T162426
CREATED:20250428T110338Z
LAST-MODIFIED:20250430T052848Z
UID:9533-1748685600-1748703600@pzdudolenjskeinbelekrajine.si
SUMMARY:VABILO ROKODELSKA RAZSTAVA PZDU DBK\, URŠNA SELA 31.5.2025
DESCRIPTION:VABILO ROKODELSKA RAZSTAVA PZDU DBK\, URŠNA SELA 31.5.2025
URL:https://pzdudolenjskeinbelekrajine.si/event-single-post-name/vabilo-rokodelska-razstava-pzdu-dbk-ursna-sela-31-5-2025/
END:VEVENT
BEGIN:VEVENT
DTSTART;TZID=Europe/Paris:20250520T080000
DTEND;TZID=Europe/Paris:20250520T120000
DTSTAMP:20260419T162426
CREATED:20250510T072958Z
LAST-MODIFIED:20250510T072959Z
UID:9551-1747728000-1747742400@pzdudolenjskeinbelekrajine.si
SUMMARY:POHOD SPOZNAJMO DOLENJSKO IN BELO KRAJINO KOČEVJE
DESCRIPTION:POHOD SPOZNAJMO DOLENJSKO IN BELO KRAJINO KOČEVJE
URL:https://pzdudolenjskeinbelekrajine.si/event-single-post-name/pohod-spoznajmo-dolenjsko-in-belo-krajino-kocevje/
END:VEVENT
BEGIN:VEVENT
DTSTART;TZID=Europe/Paris:20250424T170000
DTEND;TZID=Europe/Paris:20250424T190000
DTSTAMP:20260419T162426
CREATED:20250412T063006Z
LAST-MODIFIED:20250412T065540Z
UID:9486-1745514000-1745521200@pzdudolenjskeinbelekrajine.si
SUMMARY:VABILO NA 21. REVIJO POVSKIH ZBOROV V DOLENJSKE TOPLICE
DESCRIPTION:VABILO NA 21. REVIJO PEVSKIH ZBOROV V DOLENJSKE TOPLICE
URL:https://pzdudolenjskeinbelekrajine.si/event-single-post-name/vabilo-na-21-revijo-povskih-zborov-v-dolenjske-toplice/
END:VEVENT
BEGIN:VEVENT
DTSTART;TZID=Europe/Paris:20250415T080000
DTEND;TZID=Europe/Paris:20250415T110000
DTSTAMP:20260419T162426
CREATED:20250324T162004Z
LAST-MODIFIED:20250412T181749Z
UID:9451-1744704000-1744714800@pzdudolenjskeinbelekrajine.si
SUMMARY:93. POHOD SPOZNAJMO DOLENJSKO IN BELO KRAJINO ŠENTJERNEJ
DESCRIPTION:93. POHOD SPOZNAJMO DOLENJSKO IN BELO KRAJINO ŠENTJERNEJ
URL:https://pzdudolenjskeinbelekrajine.si/event-single-post-name/93-pohod-spoznajmo-dolenjsko-in-belo-krajino-sentjernej/
END:VEVENT
BEGIN:VEVENT
DTSTART;TZID=Europe/Paris:20250318T080000
DTEND;TZID=Europe/Paris:20250318T120000
DTSTAMP:20260419T162426
CREATED:20250307T074135Z
LAST-MODIFIED:20250307T074136Z
UID:9424-1742284800-1742299200@pzdudolenjskeinbelekrajine.si
SUMMARY:POHOD SPOZNAJMO DOLENJSKO IN BELO KRAJINO VELIKI GABER
DESCRIPTION:POHOD SPOZNAJMO DOLENJSKO IN BELO KRAJINO VELIKI GABER
URL:https://pzdudolenjskeinbelekrajine.si/event-single-post-name/pohod-spoznajmo-dolenjsko-in-belo-krajino-veliki-gaber/
END:VEVENT
BEGIN:VEVENT
DTSTART;TZID=Europe/Paris:20250218T090000
DTEND;TZID=Europe/Paris:20250218T120000
DTSTAMP:20260419T162426
CREATED:20250209T075632Z
LAST-MODIFIED:20250209T075634Z
UID:9381-1739869200-1739880000@pzdudolenjskeinbelekrajine.si
SUMMARY:POHOD SPOZNAJMO DOLENJSKO IN BELO KRAJINO GABRJE
DESCRIPTION:POHOD SPOZNAJMO DOLENJSKO IN BELO KRAJINO GABRJE
URL:https://pzdudolenjskeinbelekrajine.si/event-single-post-name/pohod-spoznajmo-dolenjsko-in-belo-krajino-gabrje/
END:VEVENT
BEGIN:VEVENT
DTSTART;TZID=Europe/Paris:20250121T090000
DTEND;TZID=Europe/Paris:20250121T120000
DTSTAMP:20260419T162426
CREATED:20250107T120853Z
LAST-MODIFIED:20250107T120855Z
UID:9277-1737450000-1737460800@pzdudolenjskeinbelekrajine.si
SUMMARY:POHOD SPOZNAJMO DOLENJSKO BRUSNICE
DESCRIPTION:POHOD SPOZNAJMO DOLENJSKO BRUSNICE
URL:https://pzdudolenjskeinbelekrajine.si/event-single-post-name/pohod-spoznajmo-dolenjsko-brusnice/
END:VEVENT
BEGIN:VEVENT
DTSTART;TZID=Europe/Paris:20250110T000000
DTEND;TZID=Europe/Paris:20250529T235959
DTSTAMP:20260419T162426
CREATED:20250129T155321Z
LAST-MODIFIED:20250417T071940Z
UID:9347-1736467200-1748563199@pzdudolenjskeinbelekrajine.si
SUMMARY:49. ŠPORTNE IGRE PZDU 2025 - REZULTATI\, FOTOGRAFIJE\, RAZPORED\, NAVODILA\, PRAVILA …
DESCRIPTION:49. ŠPORTNE IGRE PZDU 2025 – REZULTATI\, FOTOGRAFIJE\, RAZPORED\, NAVODILA\, PRAVILA …
URL:https://pzdudolenjskeinbelekrajine.si/event-single-post-name/49-sportne-igre-pzdu-2025-razpisi-pravila/
END:VEVENT
BEGIN:VEVENT
DTSTART;TZID=Europe/Paris:20250110T000000
DTEND;TZID=Europe/Paris:20250127T235959
DTSTAMP:20260419T162426
CREATED:20250110T142316Z
LAST-MODIFIED:20250110T142717Z
UID:9279-1736467200-1738022399@pzdudolenjskeinbelekrajine.si
SUMMARY:49. ŠIU - RAZPIS IN PRIJAVA ZA ORGANIZACIJO
DESCRIPTION:49. ŠIU PZDU Razpis in prijava za organizacijo
URL:https://pzdudolenjskeinbelekrajine.si/event-single-post-name/49-siu-razpis-in-prijava-za-organizacijo/
END:VEVENT
BEGIN:VEVENT
DTSTART;TZID=Europe/Paris:20250101T000000
DTEND;TZID=Europe/Paris:20251231T235959
DTSTAMP:20260419T162426
CREATED:20250214T133533Z
LAST-MODIFIED:20250214T134227Z
UID:9393-1735689600-1767225599@pzdudolenjskeinbelekrajine.si
SUMMARY:PROGRAM DELA PZDU DBK 2025
DESCRIPTION:PROGRAM DELA – PZDU DOLENJSKE IN BELE KRAJINE
URL:https://pzdudolenjskeinbelekrajine.si/event-single-post-name/program-dela-pzdu-dbk-2025/
END:VEVENT
BEGIN:VEVENT
DTSTART;TZID=Europe/Paris:20241217T090000
DTEND;TZID=Europe/Paris:20241217T120000
DTSTAMP:20260419T162426
CREATED:20241201T113555Z
LAST-MODIFIED:20241201T114719Z
UID:9236-1734426000-1734436800@pzdudolenjskeinbelekrajine.si
SUMMARY:POHOD SPOZNAJMO DOLENJSKO MALI SLATNIK
DESCRIPTION:Vabilo ma pohod Spoznajmo Dolenjsko Mali Slatnik
URL:https://pzdudolenjskeinbelekrajine.si/event-single-post-name/pohod-spoznajmo-dolenjsko-mali-slatnik/
END:VEVENT
BEGIN:VEVENT
DTSTART;TZID=Europe/Paris:20241214T000000
DTEND;TZID=Europe/Paris:20241215T000000
DTSTAMP:20260419T162426
CREATED:20241024T140415Z
LAST-MODIFIED:20241024T140643Z
UID:9222-1734134400-1734220800@pzdudolenjskeinbelekrajine.si
SUMMARY:TURNIR EKIP DRUŠTEV UPOKOJENCEV V KEGLJANJU
DESCRIPTION: TURNIR EKIP DRUŠTEV UPOKOJENCEV V KEGLJANJU
URL:https://pzdudolenjskeinbelekrajine.si/event-single-post-name/turnir-ekip-drustev-upokojencev-v-kegljanju/
END:VEVENT
BEGIN:VEVENT
DTSTART;TZID=Europe/Paris:20241119T090000
DTEND;TZID=Europe/Paris:20241119T130000
DTSTAMP:20260419T162426
CREATED:20241106T073406Z
LAST-MODIFIED:20241106T073920Z
UID:9229-1732006800-1732021200@pzdudolenjskeinbelekrajine.si
SUMMARY:Pohod Spoznajmo Dolenjsko Otočec
DESCRIPTION:Pohod Spoznajmo Dolenjsko Otočec
URL:https://pzdudolenjskeinbelekrajine.si/event-single-post-name/pohod-spoznajmo-dolenjsko-otocec-2/
END:VEVENT
BEGIN:VEVENT
DTSTART;TZID=Europe/Paris:20241017T173000
DTEND;TZID=Europe/Paris:20241017T190000
DTSTAMP:20260419T162426
CREATED:20241011T063244Z
LAST-MODIFIED:20241011T063245Z
UID:9183-1729186200-1729191600@pzdudolenjskeinbelekrajine.si
SUMMARY:SREČANJE PEVSKIH ZBOROV IN FOLKLOR
DESCRIPTION:
URL:https://pzdudolenjskeinbelekrajine.si/event-single-post-name/srecanje-pevskih-zborov-in-folklor/
END:VEVENT
BEGIN:VEVENT
DTSTART;TZID=Europe/Paris:20241015T080000
DTEND;TZID=Europe/Paris:20241015T120000
DTSTAMP:20260419T162426
CREATED:20241011T061602Z
LAST-MODIFIED:20241011T061603Z
UID:9181-1728979200-1728993600@pzdudolenjskeinbelekrajine.si
SUMMARY:POHOD SPOZNAJMO DOLENJSKO PREČNA
DESCRIPTION:POHOD SPOZNAJMO DOLENJSKO PREČNA
URL:https://pzdudolenjskeinbelekrajine.si/event-single-post-name/pohod-spoznajmo-dolenjsko-precna/
END:VEVENT
BEGIN:VEVENT
DTSTART;TZID=Europe/Paris:20241008T083000
DTEND;TZID=Europe/Paris:20241008T140000
DTSTAMP:20260419T162426
CREATED:20240925T060244Z
LAST-MODIFIED:20241005T062442Z
UID:9167-1728376200-1728396000@pzdudolenjskeinbelekrajine.si
SUMMARY:KOLESARSKI IZLET V KOSTANJEVICO NA KRKI
DESCRIPTION:Društvo upokojencev Mali Slatnik  \n\n\n\nPetelinjek 40C  \n\n\n\n8000 Novo mesto  \n\n\n\nVABILO  \n\n\n\nDruštvo upokojencev Mali Slatnik za člane društva kot ostale člane društev upokojencev v  pokrajinski zvezi društev upokojencev Dolenjske in Bele krajine organizira kolesarski izlet z  ogledom Kostanjeviške jame v torek\, 08.10.2024.  \n\n\n\nProgram dogodka:  \n\n\n\n1. Zbor prijavljenih udeležencev 08.10.2024 ob 8:30 h pri gostišču Amigo\, Mali Slatnik  15\, Novo mesto  \n\n\n\n2. Pričetek skupinskega kolesarjenja ob 9:00 h v smeri Petelinjek – Otočec – Družinska  vas – Dobrava – Mršeča vas – Zameško – Kostanjevica\, predviden prihod ob 10:30 h  \n\n\n\n3. Ob 11:00 h vstop v Kostanjeviško jamo z vodenim ogledom 40 min  \n\n\n\n4. Po ogledu ob 12:00 h druženje z postreženo toplo malico in osvežilno pijačo  \n\n\n\n5. Ob 13:00 h skupinsko povratno kolesarjenje do štartnega izhodišča ali cilja po želji  udeleženca  \n\n\n\nZa potrebe organizacije in najave ogleda Kostanjeviške jame zbiramo prijave udeležencev  izleta do vključno 06.10.2024 na e- naslov: baselj.slavko62@gmail.com \, mob. 041452314  navedite z ali brez ogleda jame.  \n\n\n\nStrošek udeležbe: \n\n\n\n– 15 eur\, /malica\, osvežilna pijača + ogled jame/  – 7 eur\, / malica\, osvežilna pijača\, brez ogleda jame/ Plačilo na zbornem mestu\n\n\n\n\n\n\n\n\n\n\n\nSplošna navodila:  \n\n\n\nKolesarjenje izvajamo v odprtem javnem prometu z uporabo razpoložljivih kolesarskih poti  zato mora udeleženec upoštevati pravila v skladu z CPP in kolesari na lastno  odgovornost!   \n\n\n\nSkupina bo z strani organizatorja ustrezno označena in vodena. Vrsto kolesa /cestno\, trek\, e bike../ za vožnjo izberite po lastni sposobnosti in razpoložljivosti\, priporočljiva je kolesarska  oprema z čelado. Voden ogled Kostanjeviške jame s strokovno razlago traja štirideset minut.  V jami je ves čas stalna temperatura 12 stopinj Celzija.  \n\n\n\nPredvidena kolesarska trasa je srednje zahtevna v skupni dolžini cca 40 km. Za potrebe  tehnične nezmožnosti ali utrujenosti udeleženca bo organiziran prevoz z vozilom v  spremstvu.  \n\n\n\n\n\n\n\nZa organizacijski odbor: Predsednik DU Mali Slatnik  SLAVKO Bašelj VINKO Parancin  \n\n\n\nŠPORTNI POZDRAV! \n\n\n\n \n\n\n\n(klik) \n\n\n\nVabilo na kolesarski izlet v Kostanjevico na Krki
URL:https://pzdudolenjskeinbelekrajine.si/event-single-post-name/kolearski-izlet-v-kostanjevico-na-keki/
END:VEVENT
BEGIN:VEVENT
DTSTART;TZID=Europe/Paris:20240917T080000
DTEND;TZID=Europe/Paris:20240917T123000
DTSTAMP:20260419T162426
CREATED:20240904T161549Z
LAST-MODIFIED:20240916T052926Z
UID:9141-1726560000-1726576200@pzdudolenjskeinbelekrajine.si
SUMMARY:POHOD SPOZNAJMO DOLENJSKO
DESCRIPTION:VABILO \n\n\n\nDruštvo upokojencev Dolenjske Toplice vas v torek 17. septembra 2024 prijazno vabi na 86. torkov pohod na Pogorelec v sklopu pohodov \n\n\n\n »SPOZNAVAJMO DOLENJSKO » \n\n\n\nZbor bo ob 8. uri pri polharski koči pod Pogorelcem (cca 600 m nadmorske višine)\, kjer je dovolj prostora za parkiranje avtomobilov in avtobusov. \n\n\n\nV Podturnu na odcepu za Bazo 20  vas pričaka prvi redar in na vsakem križišču do Polharske koče bodo redarji\, ki vas bodo usmerjali vso pot. Iz parkirišča nas bo vodila gozdna krožna pot približno 6 km. Premagali bomo višinsko razliko samo 200 m.  \n\n\n\nDaljši postanek bo na vrhu Pogorelca\, kjer je čudovit razgled. \n\n\n\nPriporoča se primerna obutev ter pohodne palice. \n\n\n\nMalica iz nahrbtnika. \n\n\n\nPohod na lastno odgovornost in v vsakem vremenu. \n\n\n\nKontaktna oseba: 051 262 161\, Slavka Krakow \n\n\n\nLepo vabljeni v čim večjem številu! \n\n\n\nDol. Toplice 21.8.2024 \n\n\n\nPredsednica DU DT: \n\n\n\n                                      Slavica Strajnar 
URL:https://pzdudolenjskeinbelekrajine.si/event-single-post-name/pohod-spoznajmo-dolenjsko/
END:VEVENT
BEGIN:VEVENT
DTSTART;TZID=Europe/Paris:20240903T173000
DTEND;TZID=Europe/Paris:20241010T193000
DTSTAMP:20260419T162426
CREATED:20240910T061119Z
LAST-MODIFIED:20241011T124019Z
UID:9144-1725384600-1728588600@pzdudolenjskeinbelekrajine.si
SUMMARY:RAZPIS ZA SREČANJE SKUPIN KI IZVAJAJO LJUDSKE PESMI\, PLESE IN FOLKLORO 
DESCRIPTION:Razpis za srečanje skupin ki izvajajo ljudske pesmi\, plese in folkloro 
URL:https://pzdudolenjskeinbelekrajine.si/event-single-post-name/razpis-za-srecanje-skupin-ki-izvajajo-ljudske-pesmi-plese-in-folkloro/
END:VEVENT
BEGIN:VEVENT
DTSTART;TZID=Europe/Paris:20240824T090000
DTEND;TZID=Europe/Paris:20240824T150000
DTSTAMP:20260419T162426
CREATED:20240806T123245Z
LAST-MODIFIED:20240806T123247Z
UID:9129-1724490000-1724511600@pzdudolenjskeinbelekrajine.si
SUMMARY:Praznovanje 20. obletnice dneva PZDU DBK in 70. obletnice ustanovitve DU Šentjernej
DESCRIPTION:(klik) \nVabilo na Praznovanje 20. obletnice dneva PZDU DBK in 70. obletnice ustanovitve DU Šentjernej
URL:https://pzdudolenjskeinbelekrajine.si/event-single-post-name/praznovanje-20-obletnice-dneva-pzdu-dbk-in-70-obletnice-ustanovitve-du-sentjernej/
END:VEVENT
BEGIN:VEVENT
DTSTART;TZID=Europe/Paris:20240716T080000
DTEND;TZID=Europe/Paris:20240716T120000
DTSTAMP:20260419T162426
CREATED:20240712T163321Z
LAST-MODIFIED:20240712T163328Z
UID:9120-1721116800-1721131200@pzdudolenjskeinbelekrajine.si
SUMMARY:POHOD SPOZNAJMO DOLENJSKO ŠENTJANŽ
DESCRIPTION:DU Šentjanž \n\n\n\nŠentjanž 22 \n\n\n\nDne\,12.7.2024 \n\n\n\nTorkovi pohodi Spoznajmo Dolenjsko v torek 16.7.2024 \n\n\n\nPohod bo v smeri Pekla  cca 2 uri in pol. \n\n\n\nZbirno mesto je na avtobusni postaji v Šentjanžu  ob 8\,00 uri \n\n\n\nHodite na lastno odgovornost \n\n\n\nDU Šentjanž \n\n\n\nPredsednica  \n\n\n\n  Nada Vodišek l.r.
URL:https://pzdudolenjskeinbelekrajine.si/event-single-post-name/pohod-spoznajmo-dolenjsko-sentjanz/
END:VEVENT
BEGIN:VEVENT
DTSTART;TZID=Europe/Paris:20240710T000000
DTEND;TZID=Europe/Paris:20240906T000000
DTSTAMP:20260419T162426
CREATED:20240711T094242Z
LAST-MODIFIED:20240711T095342Z
UID:9109-1720569600-1725580800@pzdudolenjskeinbelekrajine.si
SUMMARY:Natečaj za rokodelski izdelek z naslovom ANGEL
DESCRIPTION:Natečaj za rokodelski izdelek z naslovom ANGEL
URL:https://pzdudolenjskeinbelekrajine.si/event-single-post-name/natecaj-za-rokodelski-izdelek-z-naslovom-angel/
END:VEVENT
BEGIN:VEVENT
DTSTART;TZID=Europe/Paris:20240612T100000
DTEND;TZID=Europe/Paris:20240613T170000
DTSTAMP:20260419T162426
CREATED:20240426T204949Z
LAST-MODIFIED:20240519T064523Z
UID:8868-1718186400-1718298000@pzdudolenjskeinbelekrajine.si
SUMMARY:DNEVI MEDGENERACIJSKEGA SOŽITJA
DESCRIPTION:napoved programa
URL:https://pzdudolenjskeinbelekrajine.si/event-single-post-name/dnevi-medgeneracijskega-sozitja-4/
ATTACH;FMTTYPE=image/png:https://pzdudolenjskeinbelekrajine.si/wp-content/uploads/2024/04/DMS24-ZDUS-540px.png
END:VEVENT
BEGIN:VEVENT
DTSTART;TZID=Europe/Paris:20240601T100000
DTEND;TZID=Europe/Paris:20240601T150000
DTSTAMP:20260419T162426
CREATED:20240519T062159Z
LAST-MODIFIED:20240519T064228Z
UID:9032-1717236000-1717254000@pzdudolenjskeinbelekrajine.si
SUMMARY:VABILO NA ROKODELSKO RAZSTAVO V LOŠKI POTOK
DESCRIPTION:
URL:https://pzdudolenjskeinbelekrajine.si/event-single-post-name/vabilo-na-rokodelsko-razstavo/
ATTACH;FMTTYPE=image/jpeg:https://pzdudolenjskeinbelekrajine.si/wp-content/uploads/2024/05/Vabilo-rokodelska-razs-PZDU-varianta-2-1-page0001.jpg
END:VEVENT
BEGIN:VEVENT
DTSTART;TZID=Europe/Paris:20240425T000000
DTEND;TZID=Europe/Paris:20240430T000000
DTSTAMP:20260419T162426
CREATED:20240426T202257Z
LAST-MODIFIED:20240427T072026Z
UID:8839-1714003200-1714435200@pzdudolenjskeinbelekrajine.si
SUMMARY:NATEČAJ ZDUS ZA FOTOGRAFIJE ROKODELSTVO V SLOVENIJI
DESCRIPTION:Natečaj ZDUS za fotografije rokodelstvo v Sloveniji – 30. 4. 2024
URL:https://pzdudolenjskeinbelekrajine.si/event-single-post-name/natecaj-zdus-za-fotografije-rokodelstvo-v-sloveniji/
END:VEVENT
BEGIN:VEVENT
DTSTART;TZID=Europe/Paris:20240322T170000
DTEND;TZID=Europe/Paris:20240322T190000
DTSTAMP:20260419T162426
CREATED:20240304T081607Z
LAST-MODIFIED:20240304T081609Z
UID:8760-1711126800-1711134000@pzdudolenjskeinbelekrajine.si
SUMMARY:SREČANJE LITERATOV V ČRNOMLJU - RAZPIS
DESCRIPTION:OBJAVA RAZPISA
URL:https://pzdudolenjskeinbelekrajine.si/event-single-post-name/srecanje-literatov-v-crnomlju-razpis/
END:VEVENT
BEGIN:VEVENT
DTSTART;TZID=Europe/Paris:20240314T000000
DTEND;TZID=Europe/Paris:20240530T000000
DTSTAMP:20260419T162426
CREATED:20240228T130006Z
LAST-MODIFIED:20240519T071409Z
UID:8750-1710374400-1717027200@pzdudolenjskeinbelekrajine.si
SUMMARY:48. ŠPORTNE IGRE UPOKOJENCEV PZDU DBK - REZULTATI\, FOTOGRAFIJE\, BILTEN\, PRIJAVNICA...
DESCRIPTION:48. ŠPORTNE IGRE UPOKOJENCEV PZDU DBK \nREZULTATI\, fotografije\n \nBILTEN\, PRIJAVNICA…
URL:https://pzdudolenjskeinbelekrajine.si/event-single-post-name/8750/
ATTACH;FMTTYPE=image/jpeg:https://pzdudolenjskeinbelekrajine.si/wp-content/uploads/2022/03/Logo-SIU-page-0-scaled.jpg
END:VEVENT
BEGIN:VEVENT
DTSTART;TZID=Europe/Paris:20240226T000000
DTEND;TZID=Europe/Paris:20240226T000000
DTSTAMP:20260419T162426
CREATED:20240203T121722Z
LAST-MODIFIED:20240204T060921Z
UID:8718-1708905600-1708905600@pzdudolenjskeinbelekrajine.si
SUMMARY:48. ŠPORTNE IGRE PZDU 2024 - PRIJAVE EKIP\, NAVODILA
DESCRIPTION:Vsi razpisi TUKAJ
URL:https://pzdudolenjskeinbelekrajine.si/event-single-post-name/48-sportne-igre-pzdu-2024-prijave-ekip-navodila/
END:VEVENT
BEGIN:VEVENT
DTSTART;TZID=Europe/Paris:20240219T000000
DTEND;TZID=Europe/Paris:20240219T000000
DTSTAMP:20260419T162426
CREATED:20240215T074603Z
LAST-MODIFIED:20240215T074605Z
UID:8731-1708300800-1708300800@pzdudolenjskeinbelekrajine.si
SUMMARY:RAZPISA ZDUS KTT
DESCRIPTION:Razpis KTT za otroško ljubkovalno igračo\n\n\n\nRazpis KTT za fotografijo Gradovi na Slovenskem
URL:https://pzdudolenjskeinbelekrajine.si/event-single-post-name/razpisa-zdus-ktt/
END:VEVENT
BEGIN:VEVENT
DTSTART;TZID=Europe/Paris:20230624T100000
DTEND;TZID=Europe/Paris:20230624T160000
DTSTAMP:20260419T162426
CREATED:20230225T053544Z
LAST-MODIFIED:20230608T131107Z
UID:7863-1687600800-1687622400@pzdudolenjskeinbelekrajine.si
SUMMARY:SREČANJE UPOKOJENCEV PZDU V ČRNOMLJU
DESCRIPTION: 
URL:https://pzdudolenjskeinbelekrajine.si/event-single-post-name/srecanje-upokojencev-pzdu-v-crnomlju/
END:VEVENT
END:VCALENDAR