BEGIN:VCALENDAR
VERSION:2.0
PRODID:-//PZDU DOLENJSKE IN BELE KRAJINE - ECPv6.0.6.2//NONSGML v1.0//EN
CALSCALE:GREGORIAN
METHOD:PUBLISH
X-WR-CALNAME:PZDU DOLENJSKE IN BELE KRAJINE
X-ORIGINAL-URL:https://pzdudolenjskeinbelekrajine.si
X-WR-CALDESC:Events for PZDU DOLENJSKE IN BELE KRAJINE
REFRESH-INTERVAL;VALUE=DURATION:PT1H
X-Robots-Tag:noindex
X-PUBLISHED-TTL:PT1H
BEGIN:VTIMEZONE
TZID:Europe/Paris
BEGIN:DAYLIGHT
TZOFFSETFROM:+0100
TZOFFSETTO:+0200
TZNAME:CEST
DTSTART:20200329T010000
END:DAYLIGHT
BEGIN:STANDARD
TZOFFSETFROM:+0200
TZOFFSETTO:+0100
TZNAME:CET
DTSTART:20201025T010000
END:STANDARD
TZID:UTC
BEGIN:STANDARD
TZOFFSETFROM:+0000
TZOFFSETTO:+0000
TZNAME:UTC
DTSTART:20200101T000000
END:STANDARD
END:VTIMEZONE
BEGIN:VEVENT
DTSTART;TZID=Europe/Paris:20200323T080000
DTEND;TZID=Europe/Paris:20200323T140000
DTSTAMP:20260423T083744
CREATED:20200301T045204Z
LAST-MODIFIED:20200311T083724Z
UID:744-1584950400-1584972000@pzdudolenjskeinbelekrajine.si
SUMMARY:45. ŠIU – KEGLJANJE – MOŠKI - PRELOŽENO
DESCRIPTION:KEGLJANJE  moški – ekipno – posamezno – kegljišče »VODNJAK« Novo mesto \nEKIPE \n  \n\n\n\nZap. št.\nMoški\nZačetek\n\n\n1.\nDU ŠKOCJAN\n 8.00\n\n\n2.\nDU MALI SLATNIK\n 8.30\n\n\n3.\nDU PODGORJE-STOPIČE\n9.00\n\n\n4.\nDU TREBNJE\n9.30\n\n\n5.\nDU MIRNA\n10.00\n\n\n6.\nDU SEMIČ\n10.30\n\n\n7.\nDU NOVO MESTO\n11.00\n\n\n8.\nDU STRAŽA\n11.30\n\n\n9.\nDU ČRNOMELJ\n12.00\n\n\n10.\nDU DOL.TOPLICE\n12.30\n\n\n11.\nDU KOČEVJE\n13.00\n\n\n\nDelegat: Milena Iskra (GSM 040 900 968; milena.iskra@gmail.com) \nPOSEBNO OBVESTILO! \nTekmovanje v kegljanju  boste  lahko spremljali preko spletnekamere na  – kegljanje.com. \nPRAVILA ŠIU \nI. K E G L J A N J E \n1. Kegljanje moški – 2 x 30 (15/15) = 60 lučajev mešano. \n2. Kegljanje ženske – 2 x 30 (15/15) = 60 lučajev mešano \n3. Ekipe nastopijo v prejetem vrstnem redu. Tekmovalne ekipe pričnejo  s tekmovanjem istočasno. \n4. Moško in žensko ekipo sestavljajo 4 tekmovalci oziroma tekmovalke in rezerva\, razen pri ženskah sta lahko dve rezervi. \n5. Tekmuje se po pravilniku Kegljaške zveze Slovenije. \n6. Na tekmovanju morajo tekmovalci nastopiti v športni opremi. \n7. Zmaga ekipa\, ki podre največ kegljev. Po številu podrtih kegljev se določi vrstni red ekip. V primeru enakega števila podrtih kegljev odloča boljše čiščenje. Če je še vedno rezultat enak\, pa odloča število praznih lučajev. Isti kriterij velja za odločitev najboljših posameznikov. \n8. Doseženi rezultati posameznic\, oziroma posameznikov v ekipnem tekmovanju veljajo za določitev vrstnega reda v posamezni konkurenci (glej točko 7.).
URL:https://pzdudolenjskeinbelekrajine.si/event-single-post-name/45-siu-kegljanje-moski/
LOCATION:Kegljišče Vodnjak Novo mesto
END:VEVENT
BEGIN:VEVENT
DTSTART;TZID=Europe/Paris:20200317T000000
DTEND;TZID=Europe/Paris:20200317T000000
DTSTAMP:20260423T083744
CREATED:20200506T055756Z
LAST-MODIFIED:20200506T055824Z
UID:1354-1584403200-1584403200@pzdudolenjskeinbelekrajine.si
SUMMARY:POHOD SPOZNAJMO DOLENJSKO – DU KOČEVJE – ODPOVEDAN
DESCRIPTION:https://pzdudolenjskeinbelekrajine.si/pohodi-spoznajmo-dolenjsko/
URL:https://pzdudolenjskeinbelekrajine.si/event-single-post-name/pohod-spoznajmo-dolenjsko-du-kocevje-odpovedan/
END:VEVENT
BEGIN:VEVENT
DTSTART;TZID=Europe/Paris:20200316T080000
DTEND;TZID=Europe/Paris:20200316T140000
DTSTAMP:20260423T083744
CREATED:20200301T043952Z
LAST-MODIFIED:20200311T083317Z
UID:739-1584345600-1584367200@pzdudolenjskeinbelekrajine.si
SUMMARY:45. ŠIU - KEGLJANJE – ŽENSKE - PRELOŽENO
DESCRIPTION:KEGLJANJE  ženske -ekipno- posamezno – kegljišče »VODNJAK« Novo mesto \nEKIPE \n\n\n\nZap. št.\nŽenske\nZačetek\n\n\n1.\nDU DOLENJSKE TOPLICE\n 8.00\n\n\n2.\nDU KOČEVJE\n 8.30\n\n\n3.\nDU ŠKOCJAN\n9.00\n\n\n4.\nDU NOVO MESTO\n9.30\n\n\n5.\nDU STRAŽA\n10.00\n\n\n6.\nDU STOPIČE\n10.30\n\n\n7.\nDU MALI SLATNIK\n11.00\n\n\n8.\nDU MIRNA\n11.30\n\n\n9.\nDU ČRNOMELJ\n12.00\n\n\n  10.\nDU TREBNJE\n12.30\n\n\n\nDelegat: Janez Mohorčič (041 581 866) \nPOSEBNO OBVESTILO! \nTekmovanje v kegljanju  boste  lahko spremljali preko spletne kamere na – kegljanje.com. \nPRAVILA ŠIU \nI. K E G L J A N J E \n1. Kegljanje moški – 2 x 30 (15/15) = 60 lučajev mešano. \n2. Kegljanje ženske – 2 x 30 (15/15) = 60 lučajev mešano \n3. Ekipe nastopijo v prejetem vrstnem redu. Tekmovalne ekipe pričnejo  s tekmovanjem istočasno. \n4. Moško in žensko ekipo sestavljajo 4 tekmovalci oziroma tekmovalke in rezerva\, razen pri ženskah sta lahko dve rezervi. \n5. Tekmuje se po pravilniku Kegljaške zveze Slovenije. \n6. Na tekmovanju morajo tekmovalci nastopiti v športni opremi. \n7. Zmaga ekipa\, ki podre največ kegljev. Po številu podrtih kegljev se določi vrstni red ekip. V primeru enakega števila podrtih kegljev odloča boljše čiščenje. Če je še vedno rezultat enak\, pa odloča število praznih lučajev. Isti kriterij velja za odločitev najboljših posameznikov. \n8. Doseženi rezultati posameznic\, oziroma posameznikov v ekipnem tekmovanju veljajo za določitev vrstnega reda v posamezni konkurenci (glej točko 7.). \n 
URL:https://pzdudolenjskeinbelekrajine.si/event-single-post-name/45-siu-kegljanje-zenske/
LOCATION:Kegljišče Vodnjak Novo mesto
END:VEVENT
BEGIN:VEVENT
DTSTART;TZID=UTC:20200222T100000
DTEND;TZID=UTC:20200222T180000
DTSTAMP:20260423T083744
CREATED:20200226T083117Z
LAST-MODIFIED:20200226T142219Z
UID:523-1582365600-1582394400@pzdudolenjskeinbelekrajine.si
SUMMARY:ROKODELSKA RAZSTAVA
DESCRIPTION:
URL:https://pzdudolenjskeinbelekrajine.si/event-single-post-name/rokodelska-delavnica/
ATTACH;FMTTYPE=image/jpeg:https://pzdudolenjskeinbelekrajine.si/wp-content/uploads/2020/02/VABILO-ZA-RAZSTAVO-22.-2.-2020pr-page0001.jpg
END:VEVENT
END:VCALENDAR